Workbook
Name Excel_BuiltIn_Print_Titles: Detalle!$B$1:$IX$1

Sheet Tabla Dinámica Familias

Sheet Tabla Dinámica CAs

Sheet Detalle
A1: COMBO | B1: CENTRO | C1: NOMBRE | D1: DESCRIPCIÓN | E1: Nº SERIE | F1: CLASE FAMILIA | G1: TIPO FAMILIA | H1: DOSSIER
A2: =B2&" "&C2 -> AS0101 Llodio | B2: AS0101 | C2: =VLOOKUP(B2,GADA!A:B,2,FALSE) -> Llodio | D2: P/N 10AJS00G00 ORD. LENOVO M83 RAM8GB | E2: S4J96386 | F2: ORDENADORES | G2: ORDENADOR PERSONAL | H2: 201530146
A3: =B3&" "&C3 -> AS0101 Llodio | B3: AS0101 | C3: =VLOOKUP(B3,GADA!A:B,2,FALSE) -> Llodio | D3: P/N 10AJS00G00 ORD. LENOVO M83 RAM8GB | E3: S4J96448 | F3: ORDENADORES | G3: ORDENADOR PERSONAL | H3: 201530168
A4: =B4&" "&C4 -> AS0101 Llodio | B4: AS0101 | C4: =VLOOKUP(B4,GADA!A:B,2,FALSE) -> Llodio | D4: P/N UE32J5100AW TELEVISOR SAMSUNG LED 32" | E4: 082T3SFGB01516 | F4: MONITORES | G4: ACCESORIOS PROYECCION | H4: 201533108
A5: =B5&" "&C5 -> AS0101 Llodio | B5: AS0101 | C5: =VLOOKUP(B5,GADA!A:B,2,FALSE) -> Llodio | D5: P/N 49LH604V TELEVISOR LG 49" + SOPORTE | E5: 703MADHH7322 | F5: MONITORES | G5: ACCESORIOS PROYECCION | H5: 201730223
A6: =B6&" "&C6 -> AS0101 Llodio | B6: AS0101 | C6: =VLOOKUP(B6,GADA!A:B,2,FALSE) -> Llodio | D6: P/N 10JTS00400 ORDENADOR LENOVO THINKCENTRE M700 TINY RAM8GB | E6: S4AV0270 | F6: ORDENADORES | G6: ORDENADOR PERSONAL | H6: 201732628
A7: =B7&" "&C7 -> AS0101 Llodio | B7: AS0101 | C7: =VLOOKUP(B7,GADA!A:B,2,FALSE) -> Llodio | D7: P/N 10LKPAR6EU MONITOR LENOVO TINY-IN-ONE 22" SIN WEBCAM | E7: V902Z3A3 | F7: MONITORES | G7: MONITOR TFT | H7: 201733664
A8: =B8&" "&C8 -> AS0101 Llodio | B8: AS0101 | C8: =VLOOKUP(B8,GADA!A:B,2,FALSE) -> Llodio | D8: P/N 10QYPAT1EU MONITOR LENOVO THINKCENTRE TIO24GEN3 CON WEBCAM | E8: V305019L | F8: MONITORES | G8: MONITOR LED | H8: 202030851
A9: =B9&" "&C9 -> AS0101 Llodio | B9: AS0101 | C9: =VLOOKUP(B9,GADA!A:B,2,FALSE) -> Llodio | D9: P/N 10QYPAT1EU MONITOR LENOVO THINKCENTRE TIO24GEN3 CON WEBCAM | E9: V30501A0 | F9: MONITORES | G9: MONITOR LED | H9: 202030861
A10: =B10&" "&C10 -> AS0101 Llodio | B10: AS0101 | C10: =VLOOKUP(B10,GADA!A:B,2,FALSE) -> Llodio | D10: P/N 10QYPAT1EU MONITOR LENOVO THINKCENTRE TIO24GEN3 CON WEBCAM | E10: V3050AH9 | F10: MONITORES | G10: MONITOR LED | H10: 202030945
A11: =B11&" "&C11 -> AS0101 Llodio | B11: AS0101 | C11: =VLOOKUP(B11,GADA!A:B,2,FALSE) -> Llodio | D11: P/N 10QYPAT1EU MONITOR LENOVO THINKCENTRE TIO24GEN3 CON WEBCAM | E11: V305BFNA | F11: MONITORES | G11: MONITOR LED | H11: 202031128
A12: =B12&" "&C12 -> AS0101 Llodio | B12: AS0101 | C12: =VLOOKUP(B12,GADA!A:B,2,FALSE) -> Llodio | D12: P/N 10QYPAT1EU MONITOR LENOVO THINKCENTRE TIO24GEN3 CON WEBCAM | E12: V305BFNF | F12: MONITORES | G12: MONITOR LED | H12: 202031130
A13: =B13&" "&C13 -> AS0101 Llodio | B13: AS0101 | C13: =VLOOKUP(B13,GADA!A:B,2,FALSE) -> Llodio | D13: P/N 10T8SLDU00 ORDENADOR LENOVO THINKCENTRE M720Q TINY | E13: S4PL4049 | F13: ORDENADORES | G13: ORDENADOR PERSONAL | H13: 202032283
... A8567: =B8567&" "&C8567 -> AS8015 Dirección Relaciones Externas | B8567: AS8015 | C8567: =VLOOKUP(B8567,GADA!A:B,2,FALSE) -> Dirección Relaciones Externas | D8567: P/N Z0W30066D MAC PRO 3.5 8C 32GB 1TB RP 580K | E8567: C02CJ04UK7GF | F8567: ORDENADORES MAC | G8567: ORDENADOR PERSONAL MAC | H8567: 202030590
A8568: =B8568&" "&C8568 -> AS8018 Dirección Área Funcional | B8568: AS8018 | C8568: =VLOOKUP(B8568,GADA!A:B,2,FALSE) -> Dirección Área Funcional | D8568: MONITOR EIZO RADIOFORCE MX217 | E8568: 45494025 | F8568: MONITORES | G8568: MONITOR TFT | H8568: 202502455
A8569: =B8569&" "&C8569 -> AS8018 Dirección Área Funcional | B8569: AS8018 | C8569: =VLOOKUP(B8569,GADA!A:B,2,FALSE) -> Dirección Área Funcional | D8569: MONITOR EIZO RADIOFORCE MX217 | E8569: 45543025 | F8569: MONITORES | G8569: MONITOR TFT | H8569: 202502472
A8570: =B8570&" "&C8570 -> AS8018 Dirección Área Funcional | B8570: AS8018 | C8570: =VLOOKUP(B8570,GADA!A:B,2,FALSE) -> Dirección Área Funcional | D8570: MONITOR EIZO RADIOFORCE MX217 | E8570: 45409025 | F8570: MONITORES | G8570: MONITOR TFT | H8570: 202502446
A8571: =B8571&" "&C8571 -> AS8018 Dirección Área Funcional | B8571: AS8018 | C8571: =VLOOKUP(B8571,GADA!A:B,2,FALSE) -> Dirección Área Funcional | D8571: MONITOR EIZO RADIOFORCE MX217 | E8571: 45393025 | F8571: MONITORES | G8571: MONITOR TFT | H8571: 202502345
A8572: =B8572&" "&C8572 -> AS8018 Dirección Área Funcional | B8572: AS8018 | C8572: =VLOOKUP(B8572,GADA!A:B,2,FALSE) -> Dirección Área Funcional | D8572: MONITOR EIZO RADIOFORCE MX217 | E8572: 45527025 | F8572: MONITORES | G8572: MONITOR TFT | H8572: 202502468
A8573: =B8573&" "&C8573 -> AS8018 Dirección Área Funcional | B8573: AS8018 | C8573: =VLOOKUP(B8573,GADA!A:B,2,FALSE) -> Dirección Área Funcional | D8573: MONITOR EIZO RADIOFORCE MX217 | E8573: 45403025 | F8573: MONITORES | G8573: MONITOR TFT | H8573: 202502465
A8574: =B8574&" "&C8574 -> AS8018 Dirección Área Funcional | B8574: AS8018 | C8574: =VLOOKUP(B8574,GADA!A:B,2,FALSE) -> Dirección Área Funcional | D8574: MONITOR EIZO RADIOFORCE MX217 | E8574: 45598025 | F8574: MONITORES | G8574: MONITOR TFT | H8574: 202502459
A8575: =B8575&" "&C8575 -> AS8018 Dirección Área Funcional | B8575: AS8018 | C8575: =VLOOKUP(B8575,GADA!A:B,2,FALSE) -> Dirección Área Funcional | D8575: MONITOR EIZO RADIOFORCE MX217 | E8575: 45583025 | F8575: MONITORES | G8575: MONITOR TFT | H8575: 202502337
A8576: =B8576&" "&C8576 -> AS8018 Dirección Área Funcional | B8576: AS8018 | C8576: =VLOOKUP(B8576,GADA!A:B,2,FALSE) -> Dirección Área Funcional | D8576: MONITOR EIZO RADIOFORCE MX217 | E8576: 45588025 | F8576: MONITORES | G8576: MONITOR TFT | H8576: 202502464
A8577: =B8577&" "&C8577 -> AS8018 Dirección Área Funcional | B8577: AS8018 | C8577: =VLOOKUP(B8577,GADA!A:B,2,FALSE) -> Dirección Área Funcional | D8577: MONITOR EIZO RADIOFORCE MX217 | E8577: 46020025 | F8577: MONITORES | G8577: MONITOR TFT | H8577: 202502466
A8578: =B8578&" "&C8578 -> AS8018 Dirección Área Funcional | B8578: AS8018 | C8578: =VLOOKUP(B8578,GADA!A:B,2,FALSE) -> Dirección Área Funcional | D8578: MONITOR EIZO RADIOFORCE MX217 | E8578: 45624025 | F8578: MONITORES | G8578: MONITOR TFT | H8578: 202502476
A8579: =B8579&" "&C8579 -> AS8018 Dirección Área Funcional | B8579: AS8018 | C8579: =VLOOKUP(B8579,GADA!A:B,2,FALSE) -> Dirección Área Funcional | D8579: MONITOR EIZO RADIOFORCE MX217 | E8579: 45505025 | F8579: MONITORES | G8579: MONITOR TFT | H8579: 202502534
... A8583: =B8583&" "&C8583 -> AS8018 Dirección Área Funcional | B8583: AS8018 | C8583: =VLOOKUP(B8583,GADA!A:B,2,FALSE) -> Dirección Área Funcional | D8583: MONITOR EIZO RADIOFORCE MX217 | E8583: 45500025 | F8583: MONITORES | G8583: MONITOR TFT | H8583: 202502479
A8584: =B8584&" "&C8584 -> AS8018 Dirección Área Funcional | B8584: AS8018 | C8584: =VLOOKUP(B8584,GADA!A:B,2,FALSE) -> Dirección Área Funcional | D8584: MONITOR EIZO RADIOFORCE MX217 | E8584: 45601025 SBC | F8584: MONITORES | G8584: MONITOR TFT | H8584: 202502481
A8585: =B8585&" "&C8585 -> AS8018 Dirección Área Funcional | B8585: AS8018 | C8585: =VLOOKUP(B8585,GADA!A:B,2,FALSE) -> Dirección Área Funcional | D8585: MONITOR EIZO RADIOFORCE MX217 | E8585: 45954025 SBC | F8585: MONITORES | G8585: MONITOR TFT | H8585: 202502452
A8586: =B8586&" "&C8586 -> AS8018 Dirección Área Funcional | B8586: AS8018 | C8586: =VLOOKUP(B8586,GADA!A:B,2,FALSE) -> Dirección Área Funcional | D8586: MONITOR EIZO RADIOFORCE MX217 | E8586: 45503025 SBC | F8586: MONITORES | G8586: MONITOR TFT | H8586: 202502338
A8587: =B8587&" "&C8587 -> AS8018 Dirección Área Funcional | B8587: AS8018 | C8587: =VLOOKUP(B8587,GADA!A:B,2,FALSE) -> Dirección Área Funcional | D8587: MONITOR EIZO RADIOFORCE MX217 | E8587: 45432025 | F8587: MONITORES | G8587: MONITOR TFT | H8587: 202502347
A8588: =B8588&" "&C8588 -> AS8018 Dirección Área Funcional | B8588: AS8018 | C8588: =VLOOKUP(B8588,GADA!A:B,2,FALSE) -> Dirección Área Funcional | D8588: MONITOR EIZO RADIOFORCE MX217 | E8588: 45504025 | F8588: MONITORES | G8588: MONITOR TFT | H8588: 202502478
A8589: =B8589&" "&C8589 -> AS8018 Dirección Área Funcional | B8589: AS8018 | C8589: =VLOOKUP(B8589,GADA!A:B,2,FALSE) -> Dirección Área Funcional | D8589: MONITOR EIZO RADIOFORCE MX217 | E8589: 45589025 | F8589: MONITORES | G8589: MONITOR TFT | H8589: 202502460
A8590: =B8590&" "&C8590 -> AS8018 Dirección Área Funcional | B8590: AS8018 | C8590: =VLOOKUP(B8590,GADA!A:B,2,FALSE) -> Dirección Área Funcional | D8590: MONITOR EIZO RADIOFORCE MX217 | E8590: 45449025 | F8590: MONITORES | G8590: MONITOR TFT | H8590: 202502332
A8591: =B8591&" "&C8591 -> AS8018 Dirección Área Funcional | B8591: AS8018 | C8591: =VLOOKUP(B8591,GADA!A:B,2,FALSE) -> Dirección Área Funcional | D8591: MONITOR EIZO RADIOFORCE MX217 | E8591: 45391025 | F8591: MONITORES | G8591: MONITOR TFT | H8591: 202502343
A8592: =B8592&" "&C8592 -> AS8018 Dirección Área Funcional | B8592: AS8018 | C8592: =VLOOKUP(B8592,GADA!A:B,2,FALSE) -> Dirección Área Funcional | D8592: MONITOR EIZO RADIOFORCE MX217 | E8592: 45540025 | F8592: MONITORES | G8592: MONITOR TFT | H8592: 202502346
A8593: =B8593&" "&C8593 -> AS8018 Dirección Área Funcional | B8593: AS8018 | C8593: =VLOOKUP(B8593,GADA!A:B,2,FALSE) -> Dirección Área Funcional | D8593: MONITOR EIZO RADIOFORCE MX217 | E8593: 45596025 | F8593: MONITORES | G8593: MONITOR TFT | H8593: 202502482
A8594: =B8594&" "&C8594 -> AS8018 Dirección Área Funcional | B8594: AS8018 | C8594: =VLOOKUP(B8594,GADA!A:B,2,FALSE) -> Dirección Área Funcional | D8594: MONITOR EIZO RADIOFORCE MX217 | E8594: 45413025 SBC | F8594: MONITORES | G8594: MONITOR TFT | H8594: 202502344
A8595: =B8595&" "&C8595 -> AS8018 Dirección Área Funcional | B8595: AS8018 | C8595: =VLOOKUP(B8595,GADA!A:B,2,FALSE) -> Dirección Área Funcional | D8595: MONITOR EIZO RADIOFORCE MX217 | E8595: 45616025 | F8595: MONITORES | G8595: MONITOR TFT | H8595: 202502477
A8596: =B8596&" "&C8596 -> AS8018 Dirección Área Funcional | B8596: AS8018 | C8596: =VLOOKUP(B8596,GADA!A:B,2,FALSE) -> Dirección Área Funcional | D8596: MONITOR EIZO RADIOFORCE MX217 | E8596: 45508025 | F8596: MONITORES | G8596: MONITOR TFT | H8596: 202502340
...

Sheet GADA
A1: Código | B1: Nombre | C1: Tipo | D1: Dirección
A2: AS0101 | B2: Llodio | C2: Centro asistencial
A3: AS0102 | B3: Vitoria-Gasteiz | C3: Centro asistencial
A4: AS0201 | B4: Albacete | C4: Centro asistencial
A5: AS0301 | B5: Alacant-Alicante | C5: Centro asistencial
A6: AS0302 | B6: Elche-Elx | C6: Centro asistencial
A7: AS0303 | B7: Benidorm | C7: Centro asistencial
A8: AS0401 | B8: Almería | C8: Centro asistencial
A9: AS0402 | B9: Olula del Río | C9: Centro asistencial
A10: AS0501 | B10: Ávila | C10: Centro asistencial
A11: AS0601 | B11: Badajoz | C11: Centro asistencial
A12: AS0602 | B12: Villanueva de la Serena | C12: Centro asistencial
A13: AS0603 | B13: Mérida | C13: Centro asistencial
... A204: AS9904 | B204: CA Pruebas | C204: Dirección funcional
