Workbook
Name Excel_BuiltIn_Print_Titles: Detalle!$B$1:$IX$1

Sheet Tabla Dinámica Familias

Sheet Tabla Dinámica CAs

Sheet Detalle
A1: COMBO | B1: CENTRO | C1: NOMBRE | D1: DESCRIPCIÓN | E1: Nº SERIE | F1: CLASE FAMILIA | G1: TIPO FAMILIA | H1: DOSSIER
A2: =B2&" "&C2 -> AS0101 Llodio | B2: AS0101 | C2: =VLOOKUP(B2,GADA!A:B,2,FALSE) -> Llodio | D2: P/N 10AJS00G00 ORD. LENOVO M83 RAM8GB | E2: S4J96386 | F2: ORDENADORES | G2: ORDENADOR PERSONAL | H2: 201530146
A3: =B3&" "&C3 -> AS0101 Llodio | B3: AS0101 | C3: =VLOOKUP(B3,GADA!A:B,2,FALSE) -> Llodio | D3: P/N 10AJS00G00 ORD. LENOVO M83 RAM8GB | E3: S4J96448 | F3: ORDENADORES | G3: ORDENADOR PERSONAL | H3: 201530168
A4: =B4&" "&C4 -> AS0101 Llodio | B4: AS0101 | C4: =VLOOKUP(B4,GADA!A:B,2,FALSE) -> Llodio | D4: P/N UE32J5100AW TELEVISOR SAMSUNG LED 32" | E4: 082T3SFGB01516 | F4: MONITORES | G4: ACCESORIOS PROYECCION | H4: 201533108
A5: =B5&" "&C5 -> AS0101 Llodio | B5: AS0101 | C5: =VLOOKUP(B5,GADA!A:B,2,FALSE) -> Llodio | D5: P/N 49LH604V TELEVISOR LG 49" + SOPORTE | E5: 703MADHH7322 | F5: MONITORES | G5: ACCESORIOS PROYECCION | H5: 201730223
A6: =B6&" "&C6 -> AS0101 Llodio | B6: AS0101 | C6: =VLOOKUP(B6,GADA!A:B,2,FALSE) -> Llodio | D6: P/N 10JTS00400 ORDENADOR LENOVO THINKCENTRE M700 TINY RAM8GB | E6: S4AV0270 | F6: ORDENADORES | G6: ORDENADOR PERSONAL | H6: 201732628
A7: =B7&" "&C7 -> AS0101 Llodio | B7: AS0101 | C7: =VLOOKUP(B7,GADA!A:B,2,FALSE) -> Llodio | D7: P/N 10LKPAR6EU MONITOR LENOVO TINY-IN-ONE 22" SIN WEBCAM | E7: V902Z3A3 | F7: MONITORES | G7: MONITOR TFT | H7: 201733664
A8: =B8&" "&C8 -> AS0101 Llodio | B8: AS0101 | C8: =VLOOKUP(B8,GADA!A:B,2,FALSE) -> Llodio | D8: P/N 10QYPAT1EU MONITOR LENOVO THINKCENTRE TIO24GEN3 CON WEBCAM | E8: V305019L | F8: MONITORES | G8: MONITOR LED | H8: 202030851
A9: =B9&" "&C9 -> AS0101 Llodio | B9: AS0101 | C9: =VLOOKUP(B9,GADA!A:B,2,FALSE) -> Llodio | D9: P/N 10QYPAT1EU MONITOR LENOVO THINKCENTRE TIO24GEN3 CON WEBCAM | E9: V30501A0 | F9: MONITORES | G9: MONITOR LED | H9: 202030861
A10: =B10&" "&C10 -> AS0101 Llodio | B10: AS0101 | C10: =VLOOKUP(B10,GADA!A:B,2,FALSE) -> Llodio | D10: P/N 10QYPAT1EU MONITOR LENOVO THINKCENTRE TIO24GEN3 CON WEBCAM | E10: V3050AH9 | F10: MONITORES | G10: MONITOR LED | H10: 202030945
A11: =B11&" "&C11 -> AS0101 Llodio | B11: AS0101 | C11: =VLOOKUP(B11,GADA!A:B,2,FALSE) -> Llodio | D11: P/N 10QYPAT1EU MONITOR LENOVO THINKCENTRE TIO24GEN3 CON WEBCAM | E11: V305BFNA | F11: MONITORES | G11: MONITOR LED | H11: 202031128
A12: =B12&" "&C12 -> AS0101 Llodio | B12: AS0101 | C12: =VLOOKUP(B12,GADA!A:B,2,FALSE) -> Llodio | D12: P/N 10QYPAT1EU MONITOR LENOVO THINKCENTRE TIO24GEN3 CON WEBCAM | E12: V305BFNF | F12: MONITORES | G12: MONITOR LED | H12: 202031130
A13: =B13&" "&C13 -> AS0101 Llodio | B13: AS0101 | C13: =VLOOKUP(B13,GADA!A:B,2,FALSE) -> Llodio | D13: P/N 10T8SLDU00 ORDENADOR LENOVO THINKCENTRE M720Q TINY | E13: S4PL4049 | F13: ORDENADORES | G13: ORDENADOR PERSONAL | H13: 202032283
... A8567: =B8567&" "&C8567 -> AS8015 Dirección Relaciones Externas | B8567: AS8015 | C8567: =VLOOKUP(B8567,GADA!A:B,2,FALSE) -> Dirección Relaciones Externas | D8567: P/N Z0W30066D MAC PRO 3.5 8C 32GB 1TB RP 580K | E8567: C02CJ04UK7GF | F8567: ORDENADORES MAC | G8567: ORDENADOR PERSONAL MAC | H8567: 202030590
A8568: =B8568&" "&C8568 -> AS8018 Dirección Área Funcional | B8568: AS8018 | C8568: =VLOOKUP(B8568,GADA!A:B,2,FALSE) -> Dirección Área Funcional | D8568: MONITOR EIZO RADIOFORCE MX217 | E8568: 45494025 | F8568: MONITORES | G8568: MONITOR TFT | H8568: 202502455
A8569: =B8569&" "&C8569 -> AS8018 Dirección Área Funcional | B8569: AS8018 | C8569: =VLOOKUP(B8569,GADA!A:B,2,FALSE) -> Dirección Área Funcional | D8569: MONITOR EIZO RADIOFORCE MX217 | E8569: 45543025 | F8569: MONITORES | G8569: MONITOR TFT | H8569: 202502472
A8570: =B8570&" "&C8570 -> AS8018 Dirección Área Funcional | B8570: AS8018 | C8570: =VLOOKUP(B8570,GADA!A:B,2,FALSE) -> Dirección Área Funcional | D8570: MONITOR EIZO RADIOFORCE MX217 | E8570: 45409025 | F8570: MONITORES | G8570: MONITOR TFT | H8570: 202502446
A8571: =B8571&" "&C8571 -> AS8018 Dirección Área Funcional | B8571: AS8018 | C8571: =VLOOKUP(B8571,GADA!A:B,2,FALSE) -> Dirección Área Funcional | D8571: MONITOR EIZO RADIOFORCE MX217 | E8571: 45393025 | F8571: MONITORES | G8571: MONITOR TFT | H8571: 202502345
A8572: =B8572&" "&C8572 -> AS8018 Dirección Área Funcional | B8572: AS8018 | C8572: =VLOOKUP(B8572,GADA!A:B,2,FALSE) -> Dirección Área Funcional | D8572: MONITOR EIZO RADIOFORCE MX217 | E8572: 45527025 | F8572: MONITORES | G8572: MONITOR TFT | H8572: 202502468
A8573: =B8573&" "&C8573 -> AS8018 Dirección Área Funcional | B8573: AS8018 | C8573: =VLOOKUP(B8573,GADA!A:B,2,FALSE) -> Dirección Área Funcional | D8573: MONITOR EIZO RADIOFORCE MX217 | E8573: 45403025 | F8573: MONITORES | G8573: MONITOR TFT | H8573: 202502465
A8574: =B8574&" "&C8574 -> AS8018 Dirección Área Funcional | B8574: AS8018 | C8574: =VLOOKUP(B8574,GADA!A:B,2,FALSE) -> Dirección Área Funcional | D8574: MONITOR EIZO RADIOFORCE MX217 | E8574: 45598025 | F8574: MONITORES | G8574: MONITOR TFT | H8574: 202502459
A8575: =B8575&" "&C8575 -> AS8018 Dirección Área Funcional | B8575: AS8018 | C8575: =VLOOKUP(B8575,GADA!A:B,2,FALSE) -> Dirección Área Funcional | D8575: MONITOR EIZO RADIOFORCE MX217 | E8575: 45583025 | F8575: MONITORES | G8575: MONITOR TFT | H8575: 202502337
A8576: =B8576&" "&C8576 -> AS8018 Dirección Área Funcional | B8576: AS8018 | C8576: =VLOOKUP(B8576,GADA!A:B,2,FALSE) -> Dirección Área Funcional | D8576: MONITOR EIZO RADIOFORCE MX217 | E8576: 45588025 | F8576: MONITORES | G8576: MONITOR TFT | H8576: 202502464
A8577: =B8577&" "&C8577 -> AS8018 Dirección Área Funcional | B8577: AS8018 | C8577: =VLOOKUP(B8577,GADA!A:B,2,FALSE) -> Dirección Área Funcional | D8577: MONITOR EIZO RADIOFORCE MX217 | E8577: 46020025 | F8577: MONITORES | G8577: MONITOR TFT | H8577: 202502466
A8578: =B8578&" "&C8578 -> AS8018 Dirección Área Funcional | B8578: AS8018 | C8578: =VLOOKUP(B8578,GADA!A:B,2,FALSE) -> Dirección Área Funcional | D8578: MONITOR EIZO RADIOFORCE MX217 | E8578: 45624025 | F8578: MONITORES | G8578: MONITOR TFT | H8578: 202502476
A8579: =B8579&" "&C8579 -> AS8018 Dirección Área Funcional | B8579: AS8018 | C8579: =VLOOKUP(B8579,GADA!A:B,2,FALSE) -> Dirección Área Funcional | D8579: MONITOR EIZO RADIOFORCE MX217 | E8579: 45505025 | F8579: MONITORES | G8579: MONITOR TFT | H8579: 202502534
... A8583: =B8583&" "&C8583 -> AS8018 Dirección Área Funcional | B8583: AS8018 | C8583: =VLOOKUP(B8583,GADA!A:B,2,FALSE) -> Dirección Área Funcional | D8583: MONITOR EIZO RADIOFORCE MX217 | E8583: 45500025 | F8583: MONITORES | G8583: MONITOR TFT | H8583: 202502479
A8584: =B8584&" "&C8584 -> AS8018 Dirección Área Funcional | B8584: AS8018 | C8584: =VLOOKUP(B8584,GADA!A:B,2,FALSE) -> Dirección Área Funcional | D8584: MONITOR EIZO RADIOFORCE MX217 | E8584: 45601025 SBC | F8584: MONITORES | G8584: MONITOR TFT | H8584: 202502481
A8585: =B8585&" "&C8585 -> AS8018 Dirección Área Funcional | B8585: AS8018 | C8585: =VLOOKUP(B8585,GADA!A:B,2,FALSE) -> Dirección Área Funcional | D8585: MONITOR EIZO RADIOFORCE MX217 | E8585: 45954025 SBC | F8585: MONITORES | G8585: MONITOR TFT | H8585: 202502452
A8586: =B8586&" "&C8586 -> AS8018 Dirección Área Funcional | B8586: AS8018 | C8586: =VLOOKUP(B8586,GADA!A:B,2,FALSE) -> Dirección Área Funcional | D8586: MONITOR EIZO RADIOFORCE MX217 | E8586: 45503025 SBC | F8586: MONITORES | G8586: MONITOR TFT | H8586: 202502338
A8587: =B8587&" "&C8587 -> AS8018 Dirección Área Funcional | B8587: AS8018 | C8587: =VLOOKUP(B8587,GADA!A:B,2,FALSE) -> Dirección Área Funcional | D8587: MONITOR EIZO RADIOFORCE MX217 | E8587: 45432025 | F8587: MONITORES | G8587: MONITOR TFT | H8587: 202502347
A8588: =B8588&" "&C8588 -> AS8018 Dirección Área Funcional | B8588: AS8018 | C8588: =VLOOKUP(B8588,GADA!A:B,2,FALSE) -> Dirección Área Funcional | D8588: MONITOR EIZO RADIOFORCE MX217 | E8588: 45504025 | F8588: MONITORES | G8588: MONITOR TFT | H8588: 202502478
A8589: =B8589&" "&C8589 -> AS8018 Dirección Área Funcional | B8589: AS8018 | C8589: =VLOOKUP(B8589,GADA!A:B,2,FALSE) -> Dirección Área Funcional | D8589: MONITOR EIZO RADIOFORCE MX217 | E8589: 45589025 | F8589: MONITORES | G8589: MONITOR TFT | H8589: 202502460
A8590: =B8590&" "&C8590 -> AS8018 Dirección Área Funcional | B8590: AS8018 | C8590: =VLOOKUP(B8590,GADA!A:B,2,FALSE) -> Dirección Área Funcional | D8590: MONITOR EIZO RADIOFORCE MX217 | E8590: 45449025 | F8590: MONITORES | G8590: MONITOR TFT | H8590: 202502332
A8591: =B8591&" "&C8591 -> AS8018 Dirección Área Funcional | B8591: AS8018 | C8591: =VLOOKUP(B8591,GADA!A:B,2,FALSE) -> Dirección Área Funcional | D8591: MONITOR EIZO RADIOFORCE MX217 | E8591: 45391025 | F8591: MONITORES | G8591: MONITOR TFT | H8591: 202502343
A8592: =B8592&" "&C8592 -> AS8018 Dirección Área Funcional | B8592: AS8018 | C8592: =VLOOKUP(B8592,GADA!A:B,2,FALSE) -> Dirección Área Funcional | D8592: MONITOR EIZO RADIOFORCE MX217 | E8592: 45540025 | F8592: MONITORES | G8592: MONITOR TFT | H8592: 202502346
A8593: =B8593&" "&C8593 -> AS8018 Dirección Área Funcional | B8593: AS8018 | C8593: =VLOOKUP(B8593,GADA!A:B,2,FALSE) -> Dirección Área Funcional | D8593: MONITOR EIZO RADIOFORCE MX217 | E8593: 45596025 | F8593: MONITORES | G8593: MONITOR TFT | H8593: 202502482
A8594: =B8594&" "&C8594 -> AS8018 Dirección Área Funcional | B8594: AS8018 | C8594: =VLOOKUP(B8594,GADA!A:B,2,FALSE) -> Dirección Área Funcional | D8594: MONITOR EIZO RADIOFORCE MX217 | E8594: 45413025 SBC | F8594: MONITORES | G8594: MONITOR TFT | H8594: 202502344
A8595: =B8595&" "&C8595 -> AS8018 Dirección Área Funcional | B8595: AS8018 | C8595: =VLOOKUP(B8595,GADA!A:B,2,FALSE) -> Dirección Área Funcional | D8595: MONITOR EIZO RADIOFORCE MX217 | E8595: 45616025 | F8595: MONITORES | G8595: MONITOR TFT | H8595: 202502477
A8596: =B8596&" "&C8596 -> AS8018 Dirección Área Funcional | B8596: AS8018 | C8596: =VLOOKUP(B8596,GADA!A:B,2,FALSE) -> Dirección Área Funcional | D8596: MONITOR EIZO RADIOFORCE MX217 | E8596: 45508025 | F8596: MONITORES | G8596: MONITOR TFT | H8596: 202502340
A8597: =B8597&" "&C8597 -> AS8018 Dirección Área Funcional | B8597: AS8018 | C8597: =VLOOKUP(B8597,GADA!A:B,2,FALSE) -> Dirección Área Funcional | D8597: MONITOR EIZO RADIOFORCE MX217 | E8597: 45501025 | F8597: MONITORES | G8597: MONITOR TFT | H8597: 202502333
A8598: =B8598&" "&C8598 -> AS8018 Dirección Área Funcional | B8598: AS8018 | C8598: =VLOOKUP(B8598,GADA!A:B,2,FALSE) -> Dirección Área Funcional | D8598: MONITOR EIZO RADIOFORCE MX217 | E8598: 45517025 | F8598: MONITORES | G8598: MONITOR TFT | H8598: 202502339
A8599: =B8599&" "&C8599 -> AS8018 Dirección Área Funcional | B8599: AS8018 | C8599: =VLOOKUP(B8599,GADA!A:B,2,FALSE) -> Dirección Área Funcional | D8599: MONITOR EIZO RADIOFORCE MX217 | E8599: 45947025 | F8599: MONITORES | G8599: MONITOR TFT | H8599: 202502331
A8600: =B8600&" "&C8600 -> AS8018 Dirección Área Funcional | B8600: AS8018 | C8600: =VLOOKUP(B8600,GADA!A:B,2,FALSE) -> Dirección Área Funcional | D8600: MONITOR EIZO RADIOFORCE MX217 | E8600: 45468025 | F8600: MONITORES | G8600: MONITOR TFT | H8600: 202502341
A8601: =B8601&" "&C8601 -> AS8018 Dirección Área Funcional | B8601: AS8018 | C8601: =VLOOKUP(B8601,GADA!A:B,2,FALSE) -> Dirección Área Funcional | D8601: MONITOR EIZO RADIOFORCE MX217 | E8601: 45406025 | F8601: MONITORES | G8601: MONITOR TFT | H8601: 202502467
A8602: =B8602&" "&C8602 -> AS8018 Dirección Área Funcional | B8602: AS8018 | C8602: =VLOOKUP(B8602,GADA!A:B,2,FALSE) -> Dirección Área Funcional | D8602: MONITOR EIZO RADIOFORCE MX217 | E8602: 45615025 | F8602: MONITORES | G8602: MONITOR TFT | H8602: 202502445
A8603: =B8603&" "&C8603 -> AS8018 Dirección Área Funcional | B8603: AS8018 | C8603: =VLOOKUP(B8603,GADA!A:B,2,FALSE) -> Dirección Área Funcional | D8603: MONITOR EIZO RADIOFORCE MX217 | E8603: 45592025 | F8603: MONITORES | G8603: MONITOR TFT | H8603: 202502462
A8604: =B8604&" "&C8604 -> AS8018 Dirección Área Funcional | B8604: AS8018 | C8604: =VLOOKUP(B8604,GADA!A:B,2,FALSE) -> Dirección Área Funcional | D8604: MONITOR EIZO RADIOFORCE MX217 | E8604: 45386025 | F8604: MONITORES | G8604: MONITOR TFT | H8604: 202502461
A8605: =B8605&" "&C8605 -> AS8018 Dirección Área Funcional | B8605: AS8018 | C8605: =VLOOKUP(B8605,GADA!A:B,2,FALSE) -> Dirección Área Funcional | D8605: MONITOR EIZO RADIOFORCE MX217 | E8605: 45496025 | F8605: MONITORES | G8605: MONITOR TFT | H8605: 202502473
A8606: =B8606&" "&C8606 -> AS8018 Dirección Área Funcional | B8606: AS8018 | C8606: =VLOOKUP(B8606,GADA!A:B,2,FALSE) -> Dirección Área Funcional | D8606: MONITOR EIZO RADIOFORCE MX217 | E8606: 45626025 | F8606: MONITORES | G8606: MONITOR TFT | H8606: 202502469
... A8610: =B8610&" "&C8610 -> AS8018 Dirección Área Funcional | B8610: AS8018 | C8610: =VLOOKUP(B8610,GADA!A:B,2,FALSE) -> Dirección Área Funcional | D8610: MONITOR EIZO RADIOFORCE MX217 | E8610: 45407025 | F8610: MONITORES | G8610: MONITOR TFT | H8610: 202502463
A8611: =B8611&" "&C8611 -> AS8018 Dirección Área Funcional | B8611: AS8018 | C8611: =VLOOKUP(B8611,GADA!A:B,2,FALSE) -> Dirección Área Funcional | D8611: MONITOR EIZO RADIOFORCE MX217 | E8611: 45481025 SBC | F8611: MONITORES | G8611: MONITOR TFT | H8611: 202502458
A8612: =B8612&" "&C8612 -> AS8018 Dirección Área Funcional | B8612: AS8018 | C8612: =VLOOKUP(B8612,GADA!A:B,2,FALSE) -> Dirección Área Funcional | D8612: MONITOR EIZO RADIOFORCE MX217 | E8612: 45513025 | F8612: MONITORES | G8612: MONITOR TFT | H8612: 202502443
A8613: =B8613&" "&C8613 -> AS8018 Dirección Área Funcional | B8613: AS8018 | C8613: =VLOOKUP(B8613,GADA!A:B,2,FALSE) -> Dirección Área Funcional | D8613: MONITOR EIZO RADIOFORCE MX217 | E8613: 45594025 | F8613: MONITORES | G8613: MONITOR TFT | H8613: 202502456
A8614: =B8614&" "&C8614 -> AS8018 Dirección Área Funcional | B8614: AS8018 | C8614: =VLOOKUP(B8614,GADA!A:B,2,FALSE) -> Dirección Área Funcional | D8614: MONITOR EIZO RADIOFORCE MX217 | E8614: 45416025 | F8614: MONITORES | G8614: MONITOR TFT | H8614: 202502457
A8615: =B8615&" "&C8615 -> AS8018 Dirección Área Funcional | B8615: AS8018 | C8615: =VLOOKUP(B8615,GADA!A:B,2,FALSE) -> Dirección Área Funcional | D8615: MONITOR EIZO RADIOFORCE MX217 | E8615: 45408025 | F8615: MONITORES | G8615: MONITOR TFT | H8615: 202502439
A8616: =B8616&" "&C8616 -> AS8018 Dirección Área Funcional | B8616: AS8018 | C8616: =VLOOKUP(B8616,GADA!A:B,2,FALSE) -> Dirección Área Funcional | D8616: MONITOR EIZO RADIOFORCE MX217 | E8616: 45420025 | F8616: MONITORES | G8616: MONITOR TFT | H8616: 202502450
A8617: =B8617&" "&C8617 -> AS8018 Dirección Área Funcional | B8617: AS8018 | C8617: =VLOOKUP(B8617,GADA!A:B,2,FALSE) -> Dirección Área Funcional | D8617: MONITOR EIZO RADIOFORCE MX217 | E8617: 45595025 | F8617: MONITORES | G8617: MONITOR TFT | H8617: 202502342
A8618: =B8618&" "&C8618 -> AS8018 Dirección Área Funcional | B8618: AS8018 | C8618: =VLOOKUP(B8618,GADA!A:B,2,FALSE) -> Dirección Área Funcional | D8618: MONITOR EIZO RADIOFORCE MX217 | E8618: 45608025 | F8618: MONITORES | G8618: MONITOR TFT | H8618: 202502453
A8619: =B8619&" "&C8619 -> AS8018 Dirección Área Funcional | B8619: AS8018 | C8619: =VLOOKUP(B8619,GADA!A:B,2,FALSE) -> Dirección Área Funcional | D8619: MONITOR EIZO RADIOFORCE MX217 | E8619: 45411025 SBC | F8619: MONITORES | G8619: MONITOR TFT | H8619: 202502483
A8620: =B8620&" "&C8620 -> AS8018 Dirección Área Funcional | B8620: AS8018 | C8620: =VLOOKUP(B8620,GADA!A:B,2,FALSE) -> Dirección Área Funcional | D8620: MONITOR EIZO RADIOFORCE MX217 | E8620: 45514025 | F8620: MONITORES | G8620: MONITOR TFT | H8620: 202502448
A8621: =B8621&" "&C8621 -> AS8018 Dirección Área Funcional | B8621: AS8018 | C8621: =VLOOKUP(B8621,GADA!A:B,2,FALSE) -> Dirección Área Funcional | D8621: MONITOR EIZO RADIOFORCE MX217 | E8621: 45607025 | F8621: MONITORES | G8621: MONITOR TFT | H8621: 202502442
A8622: =B8622&" "&C8622 -> AS8018 Dirección Área Funcional | B8622: AS8018 | C8622: =VLOOKUP(B8622,GADA!A:B,2,FALSE) -> Dirección Área Funcional | D8622: MONITOR EIZO RADIOFORCE MX217 | E8622: 45610025 | F8622: MONITORES | G8622: MONITOR TFT | H8622: 202502440
A8623: =B8623&" "&C8623 -> AS8018 Dirección Área Funcional | B8623: AS8018 | C8623: =VLOOKUP(B8623,GADA!A:B,2,FALSE) -> Dirección Área Funcional | D8623: MONITOR EIZO RADIOFORCE MX217 | E8623: 45606025 | F8623: MONITORES | G8623: MONITOR TFT | H8623: 202502454
A8624: =B8624&" "&C8624 -> AS8018 Dirección Área Funcional | B8624: AS8018 | C8624: =VLOOKUP(B8624,GADA!A:B,2,FALSE) -> Dirección Área Funcional | D8624: MONITOR EIZO RADIOFORCE MX217 | E8624: 45600025 | F8624: MONITORES | G8624: MONITOR TFT | H8624: 202502444
A8625: =B8625&" "&C8625 -> AS8018 Dirección Área Funcional | B8625: AS8018 | C8625: =VLOOKUP(B8625,GADA!A:B,2,FALSE) -> Dirección Área Funcional | D8625: MONITOR EIZO RADIOFORCE MX217 | E8625: 45951025 | F8625: MONITORES | G8625: MONITOR TFT | H8625: 202502449
A8626: =B8626&" "&C8626 -> AS8018 Dirección Área Funcional | B8626: AS8018 | C8626: =VLOOKUP(B8626,GADA!A:B,2,FALSE) -> Dirección Área Funcional | D8626: MONITOR EIZO RADIOFORCE MX217 | E8626: 45510025 | F8626: MONITORES | G8626: MONITOR TFT | H8626: 202502451
A8627: =B8627&" "&C8627 -> AS9977 Almacén Costaisa | B8627: AS9977 | C8627: =VLOOKUP(B8627,GADA!A:B,2,FALSE) -> Almacén Costaisa | D8627: P/N CS-DESK-K9 MONITOR CISCO DESK | E8627: FOC2917HJ04 | F8627: COMUNICACIONES | G8627: COMUNICACIONES UNIFICADAS | H8627: 202530324
A8628: =B8628&" "&C8628 -> AS9977 Almacén Costaisa | B8628: AS9977 | C8628: =VLOOKUP(B8628,GADA!A:B,2,FALSE) -> Almacén Costaisa | D8628: P/N CS-DESK-K9 MONITOR CISCO DESK | E8628: FOC2917HJ1A | F8628: COMUNICACIONES | G8628: COMUNICACIONES UNIFICADAS | H8628: 202530327
A8629: =B8629&" "&C8629 -> AS9977 Almacén Costaisa | B8629: AS9977 | C8629: =VLOOKUP(B8629,GADA!A:B,2,FALSE) -> Almacén Costaisa | D8629: P/N CS-DESK-K9 MONITOR CISCO DESK | E8629: FOC2917HJD8 | F8629: COMUNICACIONES | G8629: COMUNICACIONES UNIFICADAS | H8629: 202530351
A8630: =B8630&" "&C8630 -> AS9977 Almacén Costaisa | B8630: AS9977 | C8630: =VLOOKUP(B8630,GADA!A:B,2,FALSE) -> Almacén Costaisa | D8630: P/N CS-DESK-K9 MONITOR CISCO DESK | E8630: FOC2917HJ42 | F8630: COMUNICACIONES | G8630: COMUNICACIONES UNIFICADAS | H8630: 202530333
A8631: =B8631&" "&C8631 -> AS9977 Almacén Costaisa | B8631: AS9977 | C8631: =VLOOKUP(B8631,GADA!A:B,2,FALSE) -> Almacén Costaisa | D8631: P/N CS-DESK-K9 MONITOR CISCO DESK | E8631: FOC2917HJ3M | F8631: COMUNICACIONES | G8631: COMUNICACIONES UNIFICADAS | H8631: 202530329
A8632: =B8632&" "&C8632 -> AS9977 Almacén Costaisa | B8632: AS9977 | C8632: =VLOOKUP(B8632,GADA!A:B,2,FALSE) -> Almacén Costaisa | D8632: P/N CS-DESK-K9 MONITOR CISCO DESK | E8632: FOC2917HJ41 | F8632: COMUNICACIONES | G8632: COMUNICACIONES UNIFICADAS | H8632: 202530332
A8633: =B8633&" "&C8633 -> AS9977 Almacén Costaisa | B8633: AS9977 | C8633: =VLOOKUP(B8633,GADA!A:B,2,FALSE) -> Almacén Costaisa | D8633: P/N CS-DESK-K9 MONITOR CISCO DESK | E8633: FOC2917HHPN | F8633: COMUNICACIONES | G8633: COMUNICACIONES UNIFICADAS | H8633: 202530314
A8634: =B8634&" "&C8634 -> AS9977 Almacén Costaisa | B8634: AS9977 | C8634: =VLOOKUP(B8634,GADA!A:B,2,FALSE) -> Almacén Costaisa | D8634: P/N CS-DESK-K9 MONITOR CISCO DESK | E8634: FOC2917HHYV | F8634: COMUNICACIONES | G8634: COMUNICACIONES UNIFICADAS | H8634: 202530321
A8635: =B8635&" "&C8635 -> AS9977 Almacén Costaisa | B8635: AS9977 | C8635: =VLOOKUP(B8635,GADA!A:B,2,FALSE) -> Almacén Costaisa | D8635: P/N CS-DESK-K9 MONITOR CISCO DESK | E8635: FOC2917HHZC | F8635: COMUNICACIONES | G8635: COMUNICACIONES UNIFICADAS | H8635: 202530323
A8636: =B8636&" "&C8636 -> AS9977 Almacén Costaisa | B8636: AS9977 | C8636: =VLOOKUP(B8636,GADA!A:B,2,FALSE) -> Almacén Costaisa | D8636: P/N CS-DESK-K9 MONITOR CISCO DESK | E8636: FOC2917HJD4 | F8636: COMUNICACIONES | G8636: COMUNICACIONES UNIFICADAS | H8636: 202530349
A8637: =B8637&" "&C8637 -> AS9977 Almacén Costaisa | B8637: AS9977 | C8637: =VLOOKUP(B8637,GADA!A:B,2,FALSE) -> Almacén Costaisa | D8637: P/N CS-DESK-K9 MONITOR CISCO DESK | E8637: FOC2917HJDM | F8637: COMUNICACIONES | G8637: COMUNICACIONES UNIFICADAS | H8637: 202530352
A8638: =B8638&" "&C8638 -> AS9977 Almacén Costaisa | B8638: AS9977 | C8638: =VLOOKUP(B8638,GADA!A:B,2,FALSE) -> Almacén Costaisa | D8638: P/N CS-DESK-K9 MONITOR CISCO DESK | E8638: FOC2917HJBX | F8638: COMUNICACIONES | G8638: COMUNICACIONES UNIFICADAS | H8638: 202530345
... A8726: =B8726&" "&C8726 -> AS0811 Vic | B8726: AS0811 | C8726: =VLOOKUP(B8726,GADA!A:B,2,FALSE) -> Vic | D8726: P/N CS-DESK-K9 MONITOR CISCO DESK | E8726: FOC2917HHXP | F8726: COMUNICACIONES | G8726: COMUNICACIONES UNIFICADAS | H8726: 202530320
A8727: =B8727&" "&C8727 -> AS8018 Dirección Área Funcional | B8727: AS8018 | C8727: =VLOOKUP(B8727,GADA!A:B,2,FALSE) -> Dirección Área Funcional | D8727: MONITOR IBM L150 15" TFT NEG P/N T36APEU 6636-AN2 | E8727: 24Y4960 | F8727: MONITORES | G8727: MONITOR TFT | H8727: 200515747
A8728: =B8728&" "&C8728 -> AS8018 Dirección Área Funcional | B8728: AS8018 | C8728: =VLOOKUP(B8728,GADA!A:B,2,FALSE) -> Dirección Área Funcional | D8728: P/N PEPS0013 PROYECTOR EPSON EMP-822 | E8728: JXVF760199L | F8728: MONITORES | G8728: VIDEO PROYECTOR | H8728: 200717339
A8729: =B8729&" "&C8729 -> AS8018 Dirección Área Funcional | B8729: AS8018 | C8729: =VLOOKUP(B8729,GADA!A:B,2,FALSE) -> Dirección Área Funcional | D8729: P/N: 410125-501 HP: SUPER MULTI DVD REWRITER MODE | E8729: 947CD009342 | F8729: PERIFERICOS | G8729: UNIDAD REGRABADORA CD/DVD | H8729: 200717434
A8730: =B8730&" "&C8730 -> AS8018 Dirección Área Funcional | B8730: AS8018 | C8730: =VLOOKUP(B8730,GADA!A:B,2,FALSE) -> Dirección Área Funcional | D8730: P/N 3CRBSG28PWR93-ME 3COM BASELINE 2928-PWR PLUS | E8730: 928FBJP83727A | F8730: COMUNICACIONES | G8730: CONMUTADOR RED/SWITCH | H8730: 200931352
A8731: =B8731&" "&C8731 -> AS8018 Dirección Área Funcional | B8731: AS8018 | C8731: =VLOOKUP(B8731,GADA!A:B,2,FALSE) -> Dirección Área Funcional | D8731: P/N MB985Y/A MACBOOK PRO APPLE | E8731: W89404B5642 | F8731: ORDENADORES MAC | G8731: ORDENADOR PERSONAL MAC | H8731: 200931684
A8732: =B8732&" "&C8732 -> AS8018 Dirección Área Funcional | B8732: AS8018 | C8732: =VLOOKUP(B8732,GADA!A:B,2,FALSE) -> Dirección Área Funcional | D8732: P/N W2271TC MONITOR TFT 22" W2271TC | E8732: 903MAQQ2C276 | F8732: MONITORES | G8732: MONITOR TFT | H8732: 200931707
A8733: =B8733&" "&C8733 -> AS8018 Dirección Área Funcional | B8733: AS8018 | C8733: =VLOOKUP(B8733,GADA!A:B,2,FALSE) -> Dirección Área Funcional | D8733: P/N W2271TC MONITOR TFT 22" W2271TC | E8733: 903MAYY5L618 | F8733: MONITORES | G8733: MONITOR TFT | H8733: 200931716
A8734: =B8734&" "&C8734 -> AS8018 Dirección Área Funcional | B8734: AS8018 | C8734: =VLOOKUP(B8734,GADA!A:B,2,FALSE) -> Dirección Área Funcional | D8734: P/N NZ3H8SP LENOVO THINKPAD EDGE E520 | E8734: R9M7L7F | F8734: ORDENADORES | G8734: ORDENADOR PORTATIL | H8734: 201230668
A8735: =B8735&" "&C8735 -> AS8018 Dirección Área Funcional | B8735: AS8018 | C8735: =VLOOKUP(B8735,GADA!A:B,2,FALSE) -> Dirección Área Funcional | D8735: P/N NZQ9XSP LENOVO THINKPAD EDGE E530 | E8735: MP10X7H | F8735: ORDENADORES | G8735: ORDENADOR PORTATIL | H8735: 201230829
A8736: =B8736&" "&C8736 -> AS8018 Dirección Área Funcional | B8736: AS8018 | C8736: =VLOOKUP(B8736,GADA!A:B,2,FALSE) -> Dirección Área Funcional | D8736: P/N NZQ9XSP PORTATIL EMERGENCIAS LENOVO THINKPAD EDGE E530, RAM8GB | E8736: MP10X8C | F8736: ORDENADORES | G8736: ORDENADOR PORTATIL | H8736: 201230848
A8737: =B8737&" "&C8737 -> AS8018 Dirección Área Funcional | B8737: AS8018 | C8737: =VLOOKUP(B8737,GADA!A:B,2,FALSE) -> Dirección Área Funcional | D8737: P/N NZQ9XSP PORTATIL EMERGENCIAS LENOVO THINKPAD EDGE E530, RAM8GB | E8737: MP10X9R | F8737: ORDENADORES | G8737: ORDENADOR PORTATIL | H8737: 201230851
A8738: =B8738&" "&C8738 -> AS8018 Dirección Área Funcional | B8738: AS8018 | C8738: =VLOOKUP(B8738,GADA!A:B,2,FALSE) -> Dirección Área Funcional | D8738: P/N NZQ9XSP LENOVO THINKPAD EDGE E530 | E8738: MP10XA4 | F8738: ORDENADORES | G8738: ORDENADOR PORTATIL | H8738: 201230867
... A11216: =B11216&" "&C11216 -> AS9977 Almacén Costaisa | B11216: AS9977 | C11216: =VLOOKUP(B11216,GADA!A:B,2,FALSE) -> Almacén Costaisa | D11216: P/N 12NAGAT1EU MONITOR LENOVO THINKCENTRE TIO24 GEN5 CON WEBCAM | E11216: V30BHPGC | F11216: MONITORES | G11216: MONITOR LED | H11216: 202430877

Sheet GADA
A1: Código | B1: Nombre | C1: Tipo | D1: Dirección
A2: AS0101 | B2: Llodio | C2: Centro asistencial
A3: AS0102 | B3: Vitoria-Gasteiz | C3: Centro asistencial
A4: AS0201 | B4: Albacete | C4: Centro asistencial
A5: AS0301 | B5: Alacant-Alicante | C5: Centro asistencial
A6: AS0302 | B6: Elche-Elx | C6: Centro asistencial
A7: AS0303 | B7: Benidorm | C7: Centro asistencial
A8: AS0401 | B8: Almería | C8: Centro asistencial
A9: AS0402 | B9: Olula del Río | C9: Centro asistencial
A10: AS0501 | B10: Ávila | C10: Centro asistencial
A11: AS0601 | B11: Badajoz | C11: Centro asistencial
A12: AS0602 | B12: Villanueva de la Serena | C12: Centro asistencial
A13: AS0603 | B13: Mérida | C13: Centro asistencial
... A204: AS9904 | B204: CA Pruebas | C204: Dirección funcional
