Workbook

Sheet OFERTA ECONOMICA
B2: ANEXO V. OFERTA EVALUABLE AUTOMÁTICAMENTE
B4: Exp. SP00058/2024
B6: Contratación sujeta a regulación armonizada del Servicio de atención sanitaria ambulatoria y hospitalaria complementaria, en Sant Cugat del Vallès (Barcelona), para ASEPEYO, Mutua Colaboradora de la Seguridad Social nº 151.
B12: OFERTA ECONÓMICA ACTUACIONES OBJETO DE VALORACIÓN
B14: La clasificación de las intervenciones y/o actos médicos que se reflejan en la presente licitación corresponden a la Clasificación Terminológica y Codificación de Actos y Técnicas Médicas publicada por la Organización Médica Colegial en el 2007.
B16: Se deberán cumplimentar obligatoriamente las hojas relativas a: OFERTA ECONÓMICA, INF.PROVEEDOR - OTROS CRITERIOS SOMETIDOS A FÓRMULAS y las hojas correspondientes a las especialidades ofertadas
B18: Se deberán cumplementar obligatoriamente todas las casillas en amarillo de esta hoja
B20: D. …………….., con residencia en ………, provincia de……. , con DNI nº……….. , enterado de las condiciones y requisitos que se exigen para la adjudicación del contrato de ………………………….
B21: , se compromete en su propio nombre y derecho // en nombre de la empresa…………………………………………., CIF………….., con domicilio en …………., c/ …………., nº ………, código postal……
B22: , a la cual representa, a tomar a su cargo la ejecución del citado contrato con estricta sujeción a los requisitos y condiciones que se exijen , aceptando incondionalmente las cláusulas del Pliego de
B23: Cláusulas Administrativas Particulares y del Pliego de Prescripciones Técnicas .
B24: A los efectos de lo expresado en el párafo anterior, se compromete a ejecutar el contrato de acuerdo con las siguientes condiciones :
... B29: Ver Inclusiones y exclusiones
C30: Tarifa Unitaria Ofertada | D30: Tarifa Unitaria Máxima
B31: CONSULTA URGENTE (Especialidades: Hemodinámica, Ginecología) | D31: 110
B34: 2. Estancias:
B35: Ver Inclusiones y exclusiones
C36: Tarifa Unitaria Ofertada | D36: Tarifa Unitaria Máxima
B37: ESTANCIA EN HABITACION INDIVIDUAL/DIA | D37: 290
B38: MEDIA ESTANCIA EN HABITACIÓN INDIVIDUAL | D38: 150
B39: ESTANCIA EN UCI | D39: 700
B42: 3. Procesos Quirúrgicos no Traumatológicos más habituales
B43: Ver Inclusiones y exclusiones
B46: Se seguirá la codificación grupos OMC, Ver apartado Oferta económica - Inclusiones y exclusiones | C46: Tarifa Unitaria Ofertada | D46: Tarifa Unitaria Máxima
B47: DERMATOLOGIA GRUPO 0 OMC | D47: 440
B48: CIRUGIA CARDIACA GRUPO VII OMC | D48: 4180
B49: CIRUGIA CARDIACA GRUPO VIII OMC | D49: 5280
B53: 4. Consultas externas de especialistas
B54: Ver Inclusiones y exclusiones
B56: Consultas externas de especialistas | C56: Tarifa Unitaria Ofertada | D56: Tarifa Unitaria Máxima
B57: PRIMERA CONSULTA | D57: 90
B58: CONSULTAS SUCESIVAS | D58: 55
B59: * El precio a ofertar por las consultas externas de especialistas será el mismo para todos las especialidades médicas, sean obligatorias o no obligatorias.
B61: 5. Consultas de especialistas de pacientes ingresados o intervenidos que no lo sean por motivo de esta especialidad.
B62: Ver Inclusiones y exclusiones
B64: Consultas de especialistas de pacientes ingresados o intervenidos que no lo sean por motivo de esta especialidad. | C64: Tarifa Unitaria Ofertada | D64: Tarifa Unitaria Máxima
B65: PRIMERA VISITA PLANTA - PACIENTE INGRESADO | D65: 55
B66: VISITA SUCESIVA PLANTA - PACIENTE INGRESADO | D66: 35
B67: * El precio a ofertar por las Consultas de especialistas de pacientes ingresados o intervenidos que no lo sean por motivo de esta especialidad será el mismo para todas las especialidades médicas, sean obligatorias o no obligatorias.
B70: 6. Pruebas Diagnósticas:
...

Sheet INF. PROVEEDOR  - OTROS CRITERI
B3: ANEXO V. OFERTA EVALUABLE AUTOMÁTICAMENTE
B5: Exp. SP00058/2024
B6: Contratación sujeta a regulación armonizada del Servicio de atención sanitaria ambulatoria y hospitalaria complementaria, en Sant Cugat del Vallès (Barcelona), para ASEPEYO, Mutua Colaboradora de la Seguridad Social nº 151.
B13: Se deberán cumplimentar obligatoriamente las hojas relativas a: INF.PROVEEDOR - OTROS CRITERIOS SOMETIDOS A FÓRMULAS, OFERTA ECONÓMICA y casillas color "amarillo" del presente fichero excel.
B15: D. …………….., con residencia en ………, provincia de……. , con DNI nº……….. , enterado de las condiciones y requisitos que se exigen para la adjudicación del contrato de ………………………….
B16: , se compromete en su propio nombre y derecho // en nombre de la empresa…………………………………………., CIF………….., con domicilio en …………., c/ …………., nº ………, código postal……
B17: , a la cual representa, a tomar a su cargo la ejecución del citado contrato con estricta sujeción a los requisitos y condiciones que se exijen , aceptando incondionalmente las cláusulas del Pliego de
B18: Cláusulas Administrativas Particulares y del Pliego de Prescripciones Técnicas . Y DECLARA dispmer de los recursos materiales, personales y técnicos que se solicitan en los pliegos asi como los
B19: que se indican en la presente oferta y a mantenerlos, en el supuesto de resultar adjudicataria, durante toda la vigencia del contrato y acreditarlo documentalmente de ser requerido para ello
B20: A los efectos de lo expresado en el párafo anterior, se compromete a ejecutar el contrato de acuerdo con las siguientes condiciones :
B23: Razón Social
B25: NIF
B30: Centros ofertados
B33: Nombre del Centro ofertado | C33: Dirección completa | D33: Horario de apertura del centro | E33: Teléfono | F33: Fax | G33: Email
B39: Plazas/accesos reservados exclusivamente para vehículos de transporte sanitario
B42: Centro ofertado (copiar nombre identificado en tabla inicial) | C42: Número
B49: II. Recursos Técnicos y Materiales:
B52: Descripción instalaciones destinadas al servicio
B54: Centro ofertado (copiar nombre identificado en tabla inicial) | C54: Recursos Ofertados | D54: Número
C55: Nº quirófanos
C56: Box de urgencias
C57: Habitaciones individuales (con cama para acompañantes)
C58: Nº quirófanos
C59: Box de urgencias
C60: Habitaciones individuales (con cama para acompañantes)
C61: Nº quirófanos
C62: Box de urgencias
C63: Habitaciones individuales (con cama para acompañantes)
C64: Nº quirófanos
C65: Box de urgencias
C66: Habitaciones individuales (con cama para acompañantes)
B70: Especialidades obligatorias o mínimas, y personal ofertado
B72: Se deben ofertar todas las especialidades obligatorias o mínimas, marcando el “SI” en la fila correspondiente.
B73: En caso de que la licitadora oferte más de un centro sanitario, se permite que entre todos los centros ofertados se tengan autorizadas la totalidad de las especialidades obligatorias.
B75: El licitador deberá ofertar un médico por cada especialidad obligatoria o mínima y por especialidad complementaria o no obligatoria ofertada, y personal de enfermería.
B77: Los años de experiencia se deberán acreditar mediante certificados de ejecución (Documento firmado por el/los empresario/s o Administración para los que haya/n prestado servicios los profesionales ofertados por la empresa licitadora,
B78: en las técnicas sanitarias del objeto de la licitación y en el que se señalen los años de experiencia) junto a este Anexo V
B80: Especialidades | C80: SI | D80: Centro ofertado (copiar nombre identificado en tabla inicial) | E80: Nombre y Apellidos del profesional | F80: Titulación | G80: Años Experiencia Acreditada
B81: Análisis Clínicos (U.73)
B82: Anestesia y Reanimación (U.35)
...

Sheet Patología Coronaria
B6: Actuaciones Diagnósticas-terapéuticas Patología Coronaria
B9: ACTUACIONES DIAGNÓSTICO-TERAPÉUTICAS PATOLOGÍA CORONARIA | C9: Tarifa Unitaria Ofertada | D9: Tarifa Unitaria Máxima
B10: CATETERISMO CARDIACO, ANGIOCARDIOGRAFIA Y CORONARIOGRAFIA | C10: Se aplicará la tarifa indicada en "Oferta económica" | D10: 2090
B11: ANGIOPLASTIA CORONARIA | C11: Se aplicará la tarifa indicada en "Oferta económica" | D11: 2200
B12: ANGIOPLASTIA CORONARIA MAS COLOCACION DE STENT | C12: Se aplicará la tarifa indicada en "Oferta económica" | D12: 6600
B13: CATETERISMO+CORONARIOGRAFÍA+ANGIOPLASTIA | C13: Se aplicará la tarifa indicada en "Oferta económica" | D13: 6600
B14: CATETERISMO+CORONARIOGRAFÍA+ANGIOPLASTIA+COLOCACION STENT | C14: Se aplicará la tarifa indicada en "Oferta económica" | D14: 7700

Sheet 6. Alergología
B3: ALERGOLOGÍA (PACIENTES HOSPITALIZADOS)
B5: Para que la especialidad pueda ser valorada e incluidas sus actuaciones en el concierto, se deberá presentar oferta para las actuaciones con la casilla sombreada en color verde
B6: No se deberán cumplimentar las casillas sombreadas en gris. La tarifa a ofertar corresponderá a la indicada en "Oferta económica"
C9: Consultas de especialistas de pacientes ingresados o intervenidos que no lo sean por motivo de esta especialidad. | D9: Oferta consultas de especialistas (SI/NO) | E9: Tarifa Unitaria Ofertada | F9: Tarifa Unitaria Máxima
C10: ='OFERTA ECONOMICA'!$B$65 -> PRIMERA VISITA PLANTA - PACIENTE INGRESADO | E10: Se aplicará la tarifa indicada en "Oferta económica" | F10: ='OFERTA ECONOMICA'!$D$65 -> 55
C11: ='OFERTA ECONOMICA'!$B$66 -> VISITA SUCESIVA PLANTA - PACIENTE INGRESADO | E11: Se aplicará la tarifa indicada en "Oferta económica" | F11: ='OFERTA ECONOMICA'!$D$66 -> 35
B14: COD. ACT | C14: PRUEBAS DE DIAGNOSTICO. *Sólo pacientes hospitalizados | D14: Tarifa Unitaria Ofertada | E14: Tarifa Unitaria Máxima
B15: 8 | C15: ESPIROMETRIA FORZADA. CURVAS FLUJO-VOLUMEN | E15: 50
B16: 7 | C16: ESPIROMETRIA SIMPLE | E16: 35
B17: 9 | C17: FOTOPATCH TEST | E17: 80
B18: 2729 | C18: PRUEBAS ALERGICAS EN INTRADERMORREACCION (IDR) | E18: 35
B19: 10 | C19: PRUEBAS ALERGICAS EN PRICK (PRICK TEST) | E19: 35
B20: 11 | C20: PRUEBAS DE BRONCODILATACION (BASAL Y TRAS BRONCODILATACION) | E20: 150
B21: 12 | C21: PRUEBAS EPICUTANEAS (PATCH TEST) | D21: Se aplicará la tarifa indicada en "Oferta económica" | E21: 170
B22: 14 | C22: RINAMOMETRIA | E22: 100
B23: 16 | C23: TEST DE HIPERACTIVIDAD/PROVOCACION BRONQUIAL INESPECIFICA (BASAL Y CON METACOLINA,HISTAMINA O ESFUERZO) | E23: 150
B24: 15 | C24: TEST DE PROVOCACION BRONQUIAL ESPECIFICA (BASAL Y TRAS RESPUESTA) | E24: 800
B25: 18 | C25: TEST PROVOCACION CONTROLADA DE ALTO RIESGO CON MEDICAMENTOS | E25: 250
B26: 17 | C26: TEST PROVOCACION DE ALTO RIESGO CON ALIMENTOS | E26: 250
B27: 19 | C27: TEST PROVOCACION NASAL CON UTILLAJE (RINOMANOMETRIA) | E27: 85
B28: 2730 | C28: TEST PROVOCACION NASAL SIN UTILLAJE | E28: 85
B29: 20 | C29: TEST PROVOCACION OCULAR | E29: 85
B32: COD. ACT | C32: ACTOS TERAPEUTICOS. *Sólo pacientes hospitalizados | D32: Tarifa Unitaria Ofertada | E32: Tarifa Unitaria Máxima
B33: 1851 | C33: AEROSOLTERAPIA, AEROSOLES (SESION) | E33: 30
B34: 21 | C34: INMUNOTERAPIA PARENTERAL CON EXTRACTOS DE HIMENOPTEROS | E34: 30
B35: 2728 | C35: INMUNOTERAPIA PARENTERAL CON OTROS EXTRACTOS. CONTROLES TERAPEUTICOS CON EXTRACTOS | E35: 30
B36: 22 | C36: VENTILOTERAPIA Y AEROSOLES CON APARATOS. DE P.P.I.I., O AEROSOLES ULTRASONICOS (POR SESION) | E36: 30

Sheet 73. Análisis Clínicos
B2: ANÁLISIS CLÍNICOS (PACIENTES HOSPITALIZADOS)
B4: No se deberán cumplimentar las casillas sombreadas en gris. La tarifa a ofertar corresponderá a la indicada en "Oferta económica"
B5: DETERMINACIONES ANALITICAS. *Sólo pacientes hospitalizados | C5: Tarifa Unitaria Ofertada | D5: Tarifa Unitaria Máxima
B6: Ac ANTIESTREPTOLISINA " O " | C6: Se aplicará la tarifa indicada en "Oferta económica" | D6: 4
B7: Ac ANTI-HBc (CORE IgM) | C7: Se aplicará la tarifa indicada en "Oferta económica" | D7: 27
B8: Ac ANTI-HBc (CORE TOTAL) | C8: Se aplicará la tarifa indicada en "Oferta económica" | D8: 9.5
B9: Ac ANTI-HBe | C9: Se aplicará la tarifa indicada en "Oferta económica" | D9: 12
B10: Ac ANTI -HBs | C10: Se aplicará la tarifa indicada en "Oferta económica" | D10: 22.5
B11: Ac ANTI-HVA ( IgG ) | C11: Se aplicará la tarifa indicada en "Oferta económica" | D11: 12
B12: Ac ANTI-HVA ( IgM ) | C12: Se aplicará la tarifa indicada en "Oferta económica" | D12: 13
B13: Ac ANTI-HVC ( IgG ) | C13: Se aplicará la tarifa indicada en "Oferta económica" | D13: 22.5
B14: Ac HIV1/HIV2 + Ag. p24 | C14: Se aplicará la tarifa indicada en "Oferta económica" | D14: 22.5
B15: Ac ANTIMICROSOMALES | C15: Se aplicará la tarifa indicada en "Oferta económica" | D15: 20
B16: Ac ANTINUCLEARES (ANA) | C16: Se aplicará la tarifa indicada en "Oferta económica" | D16: 20
B17: Ac ANTIRUBEOLA (Ig G) | C17: Se aplicará la tarifa indicada en "Oferta económica" | D17: 20
... B112: VIT. B 12 (CIANOCOBALAMINA) | C112: Se aplicará la tarifa indicada en "Oferta económica" | D112: 25

Sheet 35. Anestesia y Reanimación
B2: ANESTESIA Y REANIMACIÓN
B5: Los honorarios de los anestesistas estarán incluidos en las tarifas de los grupos de las intervenciones quirúrigicas de las distintas especialidades
B6: Se detallarán aquí las tarifas para casos excepcionales que se puedan presentar
C8: Consultas externas de especiaslitas | D8: Tarifa Unitaria Ofertada | E8: Tarifa Unitaria Máxima
C9: ='OFERTA ECONOMICA'!$B$57 -> PRIMERA CONSULTA | D9: Se aplicará la tarifa indicada en "Oferta económica" | E9: ='OFERTA ECONOMICA'!$D$57 -> 90
C10: ='OFERTA ECONOMICA'!$B$58 -> CONSULTAS SUCESIVAS | D10: Se aplicará la tarifa indicada en "Oferta económica" | E10: ='OFERTA ECONOMICA'!$D$58 -> 55
C13: Consultas de especialistas de pacientes ingresados o intervenidos que no lo sean por motivo de esta especialidad. | D13: Tarifa Unitaria Ofertada | E13: Tarifa Unitaria Máxima
C14: ='OFERTA ECONOMICA'!$B$65 -> PRIMERA VISITA PLANTA - PACIENTE INGRESADO | D14: Se aplicará la tarifa indicada en "Oferta económica" | E14: ='OFERTA ECONOMICA'!$D$65 -> 55
C15: ='OFERTA ECONOMICA'!$B$66 -> VISITA SUCESIVA PLANTA - PACIENTE INGRESADO | D15: Se aplicará la tarifa indicada en "Oferta económica" | E15: ='OFERTA ECONOMICA'!$D$66 -> 35
C19: Preoperatorios
C21: PREOPERATORIO ( Actuación incluida en las tarifas por proceso Grupos OMC. De aplicación en casos esporádicos, cuando la intervención se realice por medios propios de Asepeyo u otras mutuas.) | D21: Tarifa Unitaria Ofertada | E21: Tarifa Unitaria Máxima
C22: PREOPERATORIO. Tarifa única. Incluye: visita anestesia, placa de tórax, analítica y electrocardiograma. | E22: 150
C24: Los honorarios de los anestesistas estarán incluidos en las tarifas de los grupos de las intervenciones quirúrigicas de las distintas especialidades
C25: Se detallarán aquí las tarifas para casos excepcionales que se puedan presentar
C27: TECNICAS ESPECIALES O FUERA DEL ACTO QUIRURGICO | D27: Tarifa Unitaria Ofertada | E27: Tarifa Unitaria Máxima
B28: 531 | C28: ANESTESIA GENERAL PRECISA PARA PRACTICA DE CUALQUIER BLOQUEO NO ESPECIFICADO | E28: 500
B29: 532 | C29: AUTOTRANSFUSION PEROPERATORIA PREVIA HEMODILUCION NORMOVOLEMICA PREOPERATORIA | E29: 500
B30: 533 | C30: CONTROL DOLOR POSTOPERATORIO MEDIANTE CATETERES PERIDURALES O AXILARES. IMPLANTE FUERA DEL ACTO ANESTESICO. TRATAMIENTO COMPLETO HASTA MAXIMO 7 DIAS | E30: 500
B31: 534 | C31: CONTROL DOLOR POSTOPERATORIO MEDIANTE CATETERES PERIDURALES O DEL PLEXO BRAQUIAL ( HABIENDO SIDO IMPLANTADOS EN EL ACTO QUIRURGICO). TRATAMIENTO COMPLETO HASTA MAXIMO 7 DIAS | E31: 500
B32: 535 | C32: IMPLANTE DE CATETERES PARA REHABILITACION DEL MIEMBRO INFERIOR | E32: 500
B33: 536 | C33: IMPLANTE DE CATETERES PARA REHABILITACION DEL MIEMBRO SUPERIOR | E33: 500
B34: 537 | C34: INSTAURACION VIAS CENTRALES PARA VENOCLISIS EN PACIENTES NO ANESTESIADOS. FUERA ACTO QUIRURGICO | E34: 500

Sheet 39. Angiologia y Cirugía Vascul
B2: ANGIOLOGÍA Y CIRUGÍA VASCULAR (INTERVENCIONES QUIRÚRGICAS Y ACTOS TERAPEUTICOS SÓLO PACIENTES HOSPITALIZADOS)
B4: No se deberán cumplimentar las casillas sombreadas en gris. La tarifa a ofertar corresponderá a la indicada en "Oferta económica"
C6: Consultas externas de especiaslitas | D6: Tarifa Unitaria Ofertada | E6: Tarifa Unitaria Máxima
C7: ='OFERTA ECONOMICA'!$B$57 -> PRIMERA CONSULTA | D7: Se aplicará la tarifa indicada en "Oferta económica" | E7: ='OFERTA ECONOMICA'!$D$57 -> 90
C8: ='OFERTA ECONOMICA'!$B$58 -> CONSULTAS SUCESIVAS | D8: Se aplicará la tarifa indicada en "Oferta económica" | E8: ='OFERTA ECONOMICA'!$D$58 -> 55
C11: Consultas de especialistas de pacientes ingresados o intervenidos que no lo sean por motivo de esta especialidad. | D11: Tarifa Unitaria Ofertada | E11: Tarifa Unitaria Máxima
C12: ='OFERTA ECONOMICA'!$B$65 -> PRIMERA VISITA PLANTA - PACIENTE INGRESADO | D12: Se aplicará la tarifa indicada en "Oferta económica" | E12: ='OFERTA ECONOMICA'!$D$65 -> 55
C13: ='OFERTA ECONOMICA'!$B$66 -> VISITA SUCESIVA PLANTA - PACIENTE INGRESADO | D13: Se aplicará la tarifa indicada en "Oferta económica" | E13: ='OFERTA ECONOMICA'!$D$66 -> 35
B16: COD. ACT | C16: PRUEBAS DE DIAGNOSTICO | D16: Tarifa Unitaria Ofertada | E16: Tarifa Unitaria Máxima
B17: 2663 | C17: CATETERISMOS SELECTIVOS | E17: 2000
B18: 544 | C18: ECO-DOPPLER ARTERIAL EE.SS. O EE.II. | D18: Se aplicará la tarifa indicada en "Oferta económica" | E18: ='OFERTA ECONOMICA'!$D$74 -> 235
B19: 545 | C19: ECO-DOPPLER DE ARTERIAS VISCERALES | D19: Se aplicará la tarifa indicada en "Oferta económica" | E19: ='OFERTA ECONOMICA'!$D$74 -> 235
B20: 546 | C20: ECO-DOPPLER DE TRONCOS SUPRAAORTICOS | D20: Se aplicará la tarifa indicada en "Oferta económica" | E20: ='OFERTA ECONOMICA'!$D$74 -> 235
B21: 2978 | C21: ECO-DOPPLER VENOSO EE.SS. O EE.II. | D21: Se aplicará la tarifa indicada en "Oferta económica" | E21: ='OFERTA ECONOMICA'!$D$74 -> 235
B25: COD. ACT | C25: ACTOS TERAPEUTICOS *Sólo pacientes hospitalizados | D25: Tarifa Unitaria Ofertada | E25: Tarifa Unitaria Máxima
B26: 1418 | C26: ANGIOPLASTIA ARTERIAS VISCERALES | E26: 2000
B27: 1419 | C27: ANGIOPLASTIA EN OCLUSION DE CAROTIDA O VERTEBRAL | E27: 2000
B28: 1420 | C28: ANGIOPLASTIA SECTORES ILEOFEMORAL Y FEMOROPOPLITEO | E28: 2000
B29: 2462 | C29: TRATAMIENTO FIBRINOLITICO | E29: 900
B32: COD. ACT | C32: INTERVENCIONES QUIRURGICAS (GRUPOS OMC) *Sólo pacientes hospitalizados | D32: Tarifa Unitaria Ofertada | E32: Tarifa Unitaria Máxima
C33: INTERVENCIONES QUIRURGICAS - GRUPO 0 | E33: 440
C34: INTERVENCIONES QUIRURGICAS - GRUPO I | E34: 750
C35: INTERVENCIONES QUIRURGICAS - GRUPO II | E35: 1000
C36: INTERVENCIONES QUIRURGICAS - GRUPO III | E36: 1300
C37: INTERVENCIONES QUIRURGICAS - GRUPO IV | E37: 1750
C38: INTERVENCIONES QUIRURGICAS - GRUPO V | E38: 2300
C39: INTERVENCIONES QUIRURGICAS - GRUPO VI | E39: 2950
C40: INTERVENCIONES QUIRURGICAS - GRUPO VII | E40: 3750
C41: INTERVENCIONES QUIRURGICAS - GRUPO VIII | E41: 4850

Sheet 9. Aparato Digestivo
B2: APARATO DIGESTIVO (PACIENTES HOSPITALIZADOS)
B5: No se deberán cumplimentar las casillas sombreadas en gris. La tarifa a ofertar corresponderá a la indicada en "Oferta económica"
C7: Consultas de especialistas de pacientes ingresados o intervenidos que no lo sean por motivo de esta especialidad. | D7: Tarifa Unitaria Ofertada | E7: Tarifa Unitaria Máxima
C8: PRIMERA VISITA PLANTA - PACIENTE INGRESADO | D8: Se aplicará la tarifa indicada en "Oferta económica" | E8: 55
C9: VISITA SUCESIVA PLANTA - PACIENTE INGRESADO | D9: Se aplicará la tarifa indicada en "Oferta económica" | E9: 35
B14: COD. ACT | C14: PRUEBAS DE DIAGNOSTICO. *Sólo pacientes hospitalizados | D14: Tarifa Unitaria Ofertada | E14: Tarifa Unitaria Máxima
B15: 606 | C15: ANUSCOPIA CON BIOPSIA | E15: 500
B16: 607 | C16: BIOPSIA HEPATICA POR PUNCION | E16: 1200
B17: 608 | C17: COLANGIOPANCREATOGRAFIA RETROGRADA ENDOSCOPICA (CPRE) DIAGNOSTICA | E17: 1200
B18: 618 | C18: COLONOSCOPIA TOTAL (HASTA CIEGO) O ILEOSCOPIA. BIOPSIA | E18: 700
B19: 2997 | C19: ECOENDOSCOPIA. ECOGRAFIA ENDOLUMINAL | E19: 1500
B20: 1076 | C20: ECOGRAFIA ABDOMINAL | D20: Se aplicará la tarifa indicada en "Oferta económica" | E20: 95
B21: 614 | C21: LAPAROSCOPIA DIAGNOSTICA. BIOPSIA | E21: 1800
B22: 621 | C22: RECTOSIGMOIDOSCOPIA. BIOPSIA | E22: 500
C23: PANENDOSOCOPIA | E23: 1200
C24: GASTROSCOPIA | E24: 500
B27: COD. ACT | C27: ACTOS TERAPEUTICOS. *Sólo pacientes hospitalizados | D27: Tarifa Unitaria Ofertada | E27: Tarifa Unitaria Máxima
B28: 629 | C28: LAVADO GASTRICO | E28: 300
B29: 630 | C29: PARACENTESIS. PUNCION EVACUADORA | E29: 450
B30: 627 | C30: VARICES ESOFAGICAS. ESCLEROSIS ENDOSCOPICA (POR SESION) | E30: 750

Sheet 7. Cardiología
B2: CARDIOLOGÍA
B4: No se deberán cumplimentar las casillas sombreadas en gris. La tarifa a ofertar corresponderá a la indicada en "Oferta económica"
C6: Consultas de especialistas | D6: Tarifa Unitaria Ofertada | E6: Tarifa Unitaria Máxima
C7: PRIMERA CONSULTA | D7: Se aplicará la tarifa indicada en "Oferta económica" | E7: 90
C8: CONSULTAS SUCESIVAS | D8: Se aplicará la tarifa indicada en "Oferta económica" | E8: 55
C11: Consultas de especialistas de pacientes ingresados o intervenidos que no lo sean por motivo de esta especialidad. | D11: Tarifa Unitaria Ofertada | E11: Tarifa Unitaria Máxima
C12: PRIMERA VISITA PLANTA - PACIENTE INGRESADO | D12: Se aplicará la tarifa indicada en "Oferta económica" | E12: 55
C13: VISITA SUCESIVA PLANTA - PACIENTE INGRESADO | D13: Se aplicará la tarifa indicada en "Oferta económica" | E13: 35
B18: COD. ACT | C18: PRUEBAS DE DIAGNOSTICO | D18: Tarifa Unitaria Ofertada | E18: Tarifa Unitaria Máxima
B19: 633 | C19: CATETERISMO CARDIACO Y ANGIOCARDIOGRAFIA | E19: 990
B20: 637 | C20: CATETERISMO CARDIACO. ESTUDIO ELECTROFISIOLOGICO SIMPLE (FUNCION SINUSAL Y CONDUCCION A-V) | E20: 1760
B21: 3008 | C21: ECOCARDIOGRAFIA DE ESFUERZO | E21: 245
B22: 638 | C22: ECOCARDIOGRAMA + DOPPLER | E22: 200
B23: 639 | C23: ECOCARDIOGRAMA + DOPPLER COLOR | D23: Se aplicará la tarifa indicada en "Oferta económica" | E23: 200
B24: 642 | C24: ECOCARDIOGRAMA TRANSESOFAGICO | E24: 300
B25: 3009 | C25: ELECTROCARDIOGRAFIA E INFORME | D25: Se aplicará la tarifa indicada en "Oferta económica" | E25: 25
B26: 643 | C26: ERGOMETRIA (ECG DE ESFUERZO) | D26: Se aplicará la tarifa indicada en "Oferta económica" | E26: 165
B27: 645 | C27: HOLTER (E.C.G. DINAMICO) | D27: Se aplicará la tarifa indicada en "Oferta económica" | E27: 150
B28: 646 | C28: HOLTER DE PRESION ARTERIAL | E28: 150
B33: COD. ACT | C33: ACTOS TERAPEUTICOS | D33: Tarifa Unitaria Ofertada | E33: Tarifa Unitaria Máxima
B34: 650 | C34: CAMBIO GENERADOR MARCAPASOS | E34: 500
B35: 632 | C35: CARDIOVERSION | E35: 500
B36: 653 | C36: COLOCACION MARCAPASOS ENDOVENOSO TEMPORAL | E36: 700
B37: 654 | C37: COLOCACION MARCAPASOS SECUENCIALES | E37: 700
B38: 662 | C38: PERICARDIOCENTESIS | E38: 1500
C41: OTRAS PRUEBAS O ACTOS TERAPEUTICOS | D41: Tarifa Unitaria Ofertada | E41: Tarifa Unitaria Máxima
C42: CATETERISMO CARDIACO, ANGIOCARDIOGRAFIA Y CORONARIOGRAFIA | D42: Se aplicará la tarifa indicada en "Patología coronaria" | E42: 2090
C43: ANGIOPLASTIA CORONARIA | D43: Se aplicará la tarifa indicada en "Patología coronaria" | E43: 2200
C44: ANGIOPLASTIA CORONARIA MAS COLOCACION DE STENT | D44: Se aplicará la tarifa indicada en "Patología coronaria" | E44: 6600
C45: CATETERISMO+CORONARIOGRAFÍA+ANGIOPLASTIA | D45: Se aplicará la tarifa indicada en "Patología coronaria" | E45: 6600
C46: CATETERISMO+CORONARIOGRAFÍA+ANGIOPLASTIA+COLOCACION STENT | D46: Se aplicará la tarifa indicada en "Patología coronaria" | E46: 7700

Sheet 40. Cirugía Cardíaca
B2: CIRUGÍA CARDIACA
B4: No se deberán cumplimentar las casillas sombreadas en gris. La tarifa a ofertar corresponderá a la indicada en "Oferta económica"
C6: Consultas de especialistas | D6: Tarifa Unitaria Ofertada | E6: Tarifa Unitaria Máxima
C7: PRIMERA CONSULTA | D7: Se aplicará la tarifa indicada en "Oferta económica" | E7: 90
C8: CONSULTAS SUCESIVAS | D8: Se aplicará la tarifa indicada en "Oferta económica" | E8: 55
C11: Consultas de especialistas de pacientes ingresados o intervenidos que no lo sean por motivo de esta especialidad. | D11: Tarifa Unitaria Ofertada | E11: Tarifa Unitaria Máxima
C12: PRIMERA VISITA PLANTA - PACIENTE INGRESADO | D12: Se aplicará la tarifa indicada en "Oferta económica" | E12: 55
C13: VISITA SUCESIVA PLANTA - PACIENTE INGRESADO | D13: Se aplicará la tarifa indicada en "Oferta económica" | E13: 35
B16: De ofertar otras actuaciones de esta especialidad, se deberán cumplimentar las correspondientes casillas de "Tarifa Unitaria Ofertada":
B18: COD. ACT | C18: ACTOS TERAPEUTICOS | D18: Tarifa Unitaria Ofertada | E18: Tarifa Unitaria Máxima
B19: 653 | C19: COLOCACION MARCAPASOS ENDOVENOSO TEMPORAL | E19: 700
B20: 662 | C20: PERICARDIOCENTESIS | E20: 1500
B21: 663 | C21: TORACOCENTESIS | E21: 500
B25: COD. ACT | C25: INTERVENCIONES QUIRURGICAS (GRUPOS OMC) Ver apartado Oferta económica - Inclusiones y exclusiones - | D25: Tarifa Unitaria Ofertada | E25: Tarifa Unitaria Máxima
C26: INTERVENCIONES QUIRURGICAS - GRUPO I | E26: 825
C27: INTERVENCIONES QUIRURGICAS - GRUPO II | E27: 1100
C28: INTERVENCIONES QUIRURGICAS - GRUPO III | E28: 1430
C29: INTERVENCIONES QUIRURGICAS - GRUPO IV | E29: 1925
C30: INTERVENCIONES QUIRURGICAS - GRUPO V | E30: 2530
C31: INTERVENCIONES QUIRURGICAS - GRUPO VI | E31: 3245
C32: INTERVENCIONES QUIRURGICAS - GRUPO VII | D32: Se aplicará la tarifa indicada en "Oferta económica" | E32: 4180
C33: INTERVENCIONES QUIRURGICAS - GRUPO VIII | D33: Se aplicará la tarifa indicada en "Oferta económica" | E33: 5280
C37: OTRAS PRUEBAS O ACTOS TERAPEUTICOS | D37: Tarifa Unitaria Ofertada | E37: Tarifa Unitaria Máxima
C38: CATETERISMO CARDIACO, ANGIOCARDIOGRAFIA Y CORONARIOGRAFIA | D38: Se aplicará la tarifa indicada en "Patología Coronaria" | E38: 2090
C39: ANGIOPLASTIA CORONARIA | D39: Se aplicará la tarifa indicada en "Patología Coronaria" | E39: 2200
C40: ANGIOPLASTIA CORONARIA MAS COLOCACION DE STENT | D40: Se aplicará la tarifa indicada en "Patología Coronaria" | E40: 6600
C41: CATETERISMO+CORONARIOGRAFÍA+ANGIOPLASTIA | D41: Se aplicará la tarifa indicada en "Patología Coronaria" | E41: 6600
C42: CATETERISMO+CORONARIOGRAFÍA+ANGIOPLASTIA+COLOCACION STENT | D42: Se aplicará la tarifa indicada en "Patología Coronaria" | E42: 7700

Sheet 43. Cirugia General y Diges
B2: CIRUGÍA GENERAL Y DIGESTIVO (CONSULTAS E INTERVENCIONES QUIRÚRGICAS SÓLO PACIENTES HOSPITALIZADOS)
B5: No se deberán cumplimentar las casillas sombreadas en gris. La tarifa a ofertar corresponderá a la indicada en "Oferta económica"
C7: Consultas de especialistas de pacientes ingresados o intervenidos que no lo sean por motivo de esta especialidad. | D7: Tarifa Unitaria Ofertada | E7: Tarifa Unitaria Máxima
C8: PRIMERA VISITA PLANTA - PACIENTE INGRESADO | D8: Se aplicará la tarifa indicada en "Oferta económica" | E8: 55
C9: VISITA SUCESIVA PLANTA - PACIENTE INGRESADO | D9: Se aplicará la tarifa indicada en "Oferta económica" | E9: 35
B13: COD. ACT | C13: PRUEBAS DE DIAGNOSTICO | D13: Tarifa Unitaria Ofertada | E13: Tarifa Unitaria Máxima
B14: 606 | C14: ANUSCOPIA CON BIOPSIA | D14: Se aplicará la tarifa indicada en "Oferta económica" | E14: 500
B15: 683 | C15: BIOPSIA CUTANEA, SUBCUTANEA O MUCOSA (EXTRACCION DE PIEZA A ESTUDIO) | D15: Se aplicará la tarifa indicada en "Oferta económica" | E15: 650
B16: 608 | C16: COLANGIOPANCREATOGRAFIA RETROGRADA ENDOSCOPICA (CPRE) DIAGNOSTICA | D16: Se aplicará la tarifa indicada en "Oferta económica" | E16: 1200
B17: 618 | C17: COLONOSCOPIA TOTAL (HASTA CIEGO) O ILEOSCOPIA. BIOPSIA | D17: Se aplicará la tarifa indicada en "Oferta económica" | E17: 700
B18: 2997 | C18: ECOENDOSCOPIA. ECOGRAFIA ENDOLUMINAL | D18: Se aplicará la tarifa indicada en "Oferta económica" | E18: 1500
B19: 1076 | C19: ECOGRAFIA ABDOMINAL . *Sólo pacientes hospitalizados | E19: 95
B20: 694 | C20: ECOGRAFIA TRANSRECTAL | D20: Se aplicará la tarifa indicada en "Oferta económica" | E20: 150
B21: 614 | C21: LAPAROSCOPIA DIAGNOSTICA. BIOPSIA | D21: Se aplicará la tarifa indicada en "Oferta económica" | E21: 1800
B22: 621 | C22: RECTOSIGMOIDOSCOPIA. BIOPSIA | D22: Se aplicará la tarifa indicada en "Oferta económica" | E22: 500
C23: PANENDOSCOPIA | D23: Se aplicará la tarifa indicada en "Oferta económica" | E23: 1200
C24: GASTROSCOPIA | D24: Se aplicará la tarifa indicada en "Oferta económica" | E24: 500
B26: COD. ACT | C26: ACTOS TERAPEUTICOS *Sólo pacientes hospitalizados | D26: Tarifa Unitaria Ofertada | E26: Tarifa Unitaria Máxima
B27: 629 | C27: LAVADO GASTRICO | E27: 300
B28: 630 | C28: PARACENTESIS. PUNCION EVACUADORA | E28: 450
B29: 627 | C29: VARICES ESOFAGICAS. ESCLEROSIS ENDOSCOPICA (POR SESION) | E29: 750
B33: COD. ACT | C33: INTERVENCIONES QUIRURGICAS (GRUPOS OMC) *Sólo pacientes hospitalizados | D33: Tarifa Unitaria Ofertada | E33: Tarifa Unitaria Máxima
C34: INTERVENCIONES QUIRURGICAS - GRUPO 0 | E34: 440
C35: INTERVENCIONES QUIRURGICAS - GRUPO I | E35: 750
C36: INTERVENCIONES QUIRURGICAS - GRUPO II | E36: 1000
C37: INTERVENCIONES QUIRURGICAS - GRUPO III | E37: 1300
C38: INTERVENCIONES QUIRURGICAS - GRUPO IV | E38: 1750
C39: INTERVENCIONES QUIRURGICAS - GRUPO V | E39: 2300
C40: INTERVENCIONES QUIRURGICAS - GRUPO VI | E40: 2950
C41: INTERVENCIONES QUIRURGICAS - GRUPO VII | E41: 3750
C42: INTERVENCIONES QUIRURGICAS - GRUPO VIII | E42: 4850

Sheet 45. Cirugia Maxilofacial
B2: CIRUGÍA MAXILOFACIAL (PACIENTES HOSPITALIZADOS)
B4: Para que la especialidad pueda ser valorada e incluidas sus actuaciones en el concierto, se deberá presentar oferta para las actuaciones con la casilla sombreada en color verde
B5: No se deberán cumplimentar las casillas sombreadas en gris. La tarifa a ofertar corresponderá a la indicada en "Oferta económica"
C7: Consultas de especialistas de pacientes ingresados o intervenidos que no lo sean por motivo de esta especialidad. | D7: Oferta consultas de especialistas (SI/NO) | E7: Tarifa Unitaria Ofertada | F7: Tarifa Unitaria Máxima
C8: PRIMERA VISITA PLANTA - PACIENTE INGRESADO | E8: Se aplicará la tarifa indicada en "Oferta económica" | F8: 55
C9: VISITA SUCESIVA PLANTA - PACIENTE INGRESADO | E9: Se aplicará la tarifa indicada en "Oferta económica" | F9: 35
B14: COD. ACT | C14: ACTOS TERAPEUTICOS. *Sólo pacientes hospitalizados | D14: Tarifa Unitaria Ofertada | E14: Tarifa Unitaria Máxima
B15: 1857 | C15: TAPONAMIENTO NASAL POSTERIOR | E15: 135
B18: COD. ACT | C18: INTERVENCIONES QUIRURGICAS (GRUPOS OMC). *Sólo pacientes hospitalizados | D18: Tarifa Unitaria Ofertada | E18: Tarifa Unitaria Máxima
C19: INTERVENCIONES QUIRURGICAS - GRUPO 0 | E19: 440
C20: INTERVENCIONES QUIRURGICAS - GRUPO I | E20: 750
C21: INTERVENCIONES QUIRURGICAS - GRUPO II | E21: 1000
C22: INTERVENCIONES QUIRURGICAS - GRUPO III | E22: 1300
C23: INTERVENCIONES QUIRURGICAS - GRUPO IV | E23: 1750
C24: INTERVENCIONES QUIRURGICAS - GRUPO V | E24: 2300
C25: INTERVENCIONES QUIRURGICAS - GRUPO VI | E25: 2950
C26: INTERVENCIONES QUIRURGICAS - GRUPO VII | E26: 3750
C27: INTERVENCIONES QUIRURGICAS - GRUPO VIII | E27: 4850

Sheet 55. C. Ortopédica y Traumatolog
B2: TRAUMATOLOGÍA Y CIRUGÍA ORTOPÉDICA (PACIENTES HOSPITALIZADOS)
B4: No se deberán cumplimentar las casillas sombreadas en gris. La tarifa a ofertar corresponderá a la indicada en "Oferta económica"
B7: Consultas de especialistas de pacientes ingresados o intervenidos que no lo sean por motivo de esta especialidad. | C7: Oferta consultas de especialistas (SI/NO) | D7: Tarifa Unitaria Ofertada | E7: Tarifa Unitaria Máxima
B8: ='OFERTA ECONOMICA'!B65 -> PRIMERA VISITA PLANTA - PACIENTE INGRESADO | D8: Se aplicará la tarifa indicada en "Oferta económica" | E8: ='OFERTA ECONOMICA'!D65 -> 55
B9: ='OFERTA ECONOMICA'!B66 -> VISITA SUCESIVA PLANTA - PACIENTE INGRESADO | D9: Se aplicará la tarifa indicada en "Oferta económica" | E9: ='OFERTA ECONOMICA'!D66 -> 35
B12: Intervenciones quirúrgicas grupos OMC (facturación por proceso). *Sólo pacientes hospitalizados
B14: Ver Inclusiones y exclusiones
C16: Tarifa Unitaria Ofertada | D16: Tarifa Unitaria Máxima
B17: INTERVENCIONES QUIRURGICAS - GRUPO 0 | D17: 440
B18: INTERVENCIONES QUIRURGICAS - GRUPO I | D18: 750
B19: INTERVENCIONES QUIRURGICAS - GRUPO II | D19: 1000
B20: INTERVENCIONES QUIRURGICAS - GRUPO III | D20: 1300
B21: INTERVENCIONES QUIRURGICAS - GRUPO IV | D21: 1750
B22: INTERVENCIONES QUIRURGICAS - GRUPO V | D22: 2300
B23: INTERVENCIONES QUIRURGICAS - GRUPO VI | D23: 2950
B24: INTERVENCIONES QUIRURGICAS - GRUPO VII | D24: 3750
B25: INTERVENCIONES QUIRURGICAS - GRUPO VIII | D25: 4850
B26: * El precio a ofertar por las intervenciones quirúrgicas será el mismo para todos las especialidades médicas, sean obligatorias o no obligatorias y la facturación se hará por procesos según los grupos OMC, aplicándose las mismas inclusiones y exclusiones.
B30: Actos Terapéuticos en Traumatológica y Cirugía Ortopédica. *sólo pacientes hospitalizados
C32: Tarifa Unitaria Ofertada | D32: Tarifa Unitaria Máxima
B33: COLOCACION PERCUTANEA DE CLAVOS Y AGUJAS PARA TRACCIONES CONTINUAS | D33: 440
B34: PUNCION EVACUADORA (ARTROCENTESIS, BOLSAS SINOVIALES). BIOPSIA | D34: 440
B35: REDUCCION ORTOPEDICA E INMOVILIZACION DE FRACTURAS Y/O LUXACIONES DE CODO, MUÑECA Y MANO | D35: 440
B36: REDUCCION ORTOPEDICA E INMOVILIZACION DE FRACTURAS Y/O LUXACIONES DE CINTURA ESCAPULAR, BRAZO Y ANTEBRAZO | D36: 750
B37: REDUCCION ORTOPEDICA E INMOVILIZACION DE FRACTURAS Y/O LUXACIONES DE RODILLA, TOBILLO Y PIE | D37: 440
B38: REDUCCION ORTOPEDICA E INMOVILIZACION DE FRACTURAS Y/O LUXACIONES DE PELVIS Y RAQUIS | D38: 750
B39: REDUCCION ORTOPEDICA E INMOVILIZACION DE FRACTURAS Y/O LUXACIONES DE PIERNA, CADERA Y FEMUR | D39: 750
B40: REDUCCION ORTOPEDICA, OSTEOSINTESIS PERCUTANEA E INMOVILIZACION DE FRACTURAS Y/O LUXACIONES DE ANTEBRAZO, MUÑECA Y MANO | D40: 750
B41: REDUCCION ORTOPEDICA, OSTEOSINTESIS PERCUTANEA E INMOVILIZACION DE FRACTURAS Y/O LUXACIONES DE CADERA, FEMUR Y RODILLA | D41: 750
B42: REDUCCION ORTOPEDICA, OSTEOSINTESIS PERCUTANEA E INMOVILIZACION DE FRACTURAS Y/O LUXACIONES DE CINTURA ESCAPULAR, BRAZO Y CODO | D42: 750
B43: REDUCCION ORTOPEDICA, OSTEOSINTESIS PERCUTANEA E INMOVILIZACION DE FRACTURAS Y/O LUXACIONES DE PELVIS Y RAQUIS | D43: 750
B44: REDUCCION ORTOPEDICA, OSTEOSINTESIS PERCUTANEA E INMOVILIZACION DE FRACTURAS Y/O LUXACIONES DE PIERNA, TOBILLO Y PIE | D44: 750

Sheet 46. Cirugía Plástica y Reparad
B2: CIRUGÍA PLASTICA Y REPARADORA (INTERVENCIONES QUIRÚRGICAS SÓLO PACIENTES HOSPITALIZADOS)
B4: Para que la especialidad pueda ser valorada e incluidas sus actuaciones en el concierto, se deberá presentar oferta para las actuaciones con la casilla sombreada en color verde
B5: No se deberán cumplimentar las casillas sombreadas en gris. La tarifa a ofertar corresponderá a la indicada en "Oferta económica"
C7: Consultas de especialistas | D7: Oferta consultas de especialistas (SI/NO) | E7: Tarifa Unitaria Ofertada | F7: Tarifa Unitaria Máxima
C8: PRIMERA CONSULTA | E8: Se aplicará la tarifa indicada en "Oferta económica" | F8: 90
C9: CONSULTAS SUCESIVAS | E9: Se aplicará la tarifa indicada en "Oferta económica" | F9: 55
C12: Consultas de especialistas de pacientes ingresados o intervenidos que no lo sean por motivo de esta especialidad. | D12: Oferta consultas de especialistas (SI/NO) | E12: Tarifa Unitaria Ofertada | F12: Tarifa Unitaria Máxima
C13: PRIMERA VISITA PLANTA - PACIENTE INGRESADO | E13: Se aplicará la tarifa indicada en "Oferta económica" | F13: 55
C14: VISITA SUCESIVA PLANTA - PACIENTE INGRESADO | E14: Se aplicará la tarifa indicada en "Oferta económica" | F14: 35
B18: COD. ACT | C18: INTERVENCIONES QUIRURGICAS (GRUPOS OMC) Sólo pacientes hospitalizados Ver Inclusiones y exclusiones | D18: Tarifa Unitaria Ofertada | E18: Tarifa Unitaria Máxima
C19: INTERVENCIONES QUIRURGICAS - GRUPO 0 | E19: 440
C20: INTERVENCIONES QUIRURGICAS - GRUPO I | E20: 750
C21: INTERVENCIONES QUIRURGICAS - GRUPO II | E21: 1000
C22: INTERVENCIONES QUIRURGICAS - GRUPO III | E22: 1300
C23: INTERVENCIONES QUIRURGICAS - GRUPO IV | E23: 1750
C24: INTERVENCIONES QUIRURGICAS - GRUPO V | E24: 2300
C25: INTERVENCIONES QUIRURGICAS - GRUPO VI | E25: 2950
C26: INTERVENCIONES QUIRURGICAS - GRUPO VII | E26: 3750
C27: INTERVENCIONES QUIRURGICAS - GRUPO VIII | E27: 4850

Sheet 42. Cirugía Torácica
B2: CIRUGÍA TORÁCICA (PACIENTES HOSPITALIZADOS)
B4: Para que la especialidad pueda ser valorada e incluidas sus actuaciones en el concierto, se deberá presentar oferta para las actuaciones con la casilla sombreada en color verde
B5: No se deberán cumplimentar las casillas sombreadas en gris. La tarifa a ofertar corresponderá a la indicada en "Oferta económica"
C7: Consultas de especialistas de pacientes ingresados o intervenidos que no lo sean por motivo de esta especialidad. | D7: Oferta consultas de especialistas (SI/NO) | E7: Tarifa Unitaria Ofertada | F7: Tarifa Unitaria Máxima
C8: PRIMERA VISITA PLANTA - PACIENTE INGRESADO | E8: Se aplicará la tarifa indicada en "Oferta económica" | F8: 55
C9: VISITA SUCESIVA PLANTA - PACIENTE INGRESADO | E9: Se aplicará la tarifa indicada en "Oferta económica" | F9: 35
B12: De ofertar otras actuaciones de esta especialidad, se deberán cumplimentar las correspondientes casillas de "Tarifa Unitaria Ofertada":
B14: COD. ACT | C14: PRUEBAS DE DIAGNÓSTICO. *Sólo pacientes hospitalizados | D14: Tarifa Unitaria Ofertada | E14: Tarifa Unitaria Máxima
B15: 1071 | C15: BIOPSIA PLEURAL POR PUNCION | E15: 1200
B16: 1072 | C16: BIOPSIA PULMONAR TRANSPARIETAL | E16: 1200
B17: 1079 | C17: FIBROBRONCOSCOPIA DIAGNOSTICA CON BIOPSIA TRANSBRONQUIAL, CEPILLADO, BAS Y BAL | E17: 1200
B18: 1080 | C18: MEDIASTINOSCOPIA. BIOPSIA | E18: 1200
B19: 1257 | C19: TORACOSCOPIA DIAGNOSTICA. BIOPSIA | E19: 1200
B21: COD. ACT | C21: ACTOS TERAPEUTICOS. *Sólo pacientes hospitalizados | D21: Tarifa Unitaria Ofertada | E21: Tarifa Unitaria Máxima
B22: 1082 | C22: BRONCOSCOPIA TERAPEUTICA. EXTRACCION CUERPO EXTRAÑO O TAPON MUCOSO | E22: 500
B23: 663 | C23: TORACOCENTESIS | E23: 500
B25: COD. ACT | C25: INTERVENCIONES QUIRURGICAS (GRUPOS OMC). *Sólo pacientes hospitalizados Ver Inclusiones y exclusiones | D25: Tarifa Unitaria Ofertada | E25: Tarifa Unitaria Máxima
C26: INTERVENCIONES QUIRURGICAS - GRUPO 0 | E26: 440
C27: INTERVENCIONES QUIRURGICAS - GRUPO I | E27: 750
C28: INTERVENCIONES QUIRURGICAS - GRUPO II | E28: 1000
C29: INTERVENCIONES QUIRURGICAS - GRUPO III | E29: 1300
C30: INTERVENCIONES QUIRURGICAS - GRUPO IV | E30: 1750
C31: INTERVENCIONES QUIRURGICAS - GRUPO V | E31: 2300
C32: INTERVENCIONES QUIRURGICAS - GRUPO VI | E32: 2950
C33: INTERVENCIONES QUIRURGICAS - GRUPO VII | E33: 3750
C34: INTERVENCIONES QUIRURGICAS - GRUPO VIII | E34: 4850

Sheet 8. Dermatología
B2: DERMATOLOGÍA
B4: No se deberán cumplimentar las casillas sombreadas en gris. La tarifa a ofertar corresponderá a la indicada en "Oferta económica"
C6: Consultas de especialistas | D6: Tarifa Unitaria Ofertada | E6: Tarifa Unitaria Máxima
C7: PRIMERA CONSULTA | D7: Se aplicará la tarifa indicada en "Oferta económica" | E7: 90
C8: CONSULTAS SUCESIVAS | D8: Se aplicará la tarifa indicada en "Oferta económica" | E8: 55
C11: Consultas de especialistas de pacientes ingresados o intervenidos que no lo sean por motivo de esta especialidad. | D11: Tarifa Unitaria Ofertada | E11: Tarifa Unitaria Máxima
C12: PRIMERA VISITA PLANTA - PACIENTE INGRESADO | D12: Se aplicará la tarifa indicada en "Oferta económica" | E12: 55
C13: VISITA SUCESIVA PLANTA - PACIENTE INGRESADO | D13: Se aplicará la tarifa indicada en "Oferta económica" | E13: 35
B16: COD. ACT | C16: PRUEBAS DE DIAGNOSTICO | D16: Tarifa Unitaria Ofertada | E16: Tarifa Unitaria Máxima
B17: 683 | C17: BIOPSIA CUTANEA, SUBCUTANEA O MUCOSA (EXTRACCION DE PIEZA A ESTUDIO) | D17: Se aplicará la tarifa indicada en "Oferta económica" | E17: 650
B18: 9 | C18: FOTOPATCH TEST | E18: 80
B19: 12 | C19: PRUEBAS EPICUTANEAS (PATCH TEST) | D19: Se aplicará la tarifa indicada en "Oferta económica" | E19: 170
B21: COD. ACT | C21: ACTOS TERAPEUTICOS | D21: Tarifa Unitaria Ofertada | E21: Tarifa Unitaria Máxima
B22: 695 | C22: ELECTROCOAGULACION O CRIOTERAPIA DE VERRUGAS, TUMORES SUPERFICIALES, ETC. (UNA O VARIAS LESIONES) | E22: 165
B23: 3062 | C23: INFILTRACIONES TERAPEUTICAS CUTANEAS | E23: 70
B26: COD. ACT | C26: INTERVENCIONES QUIRURGICAS (GRUPOS OMC) Ver Inclusiones y exclusiones | D26: Tarifa Unitaria Ofertada | E26: Tarifa Unitaria Máxima
C27: INTERVENCIONES QUIRURGICAS - GRUPO 0 | D27: Se aplicará la tarifa indicada en "Oferta económica" | E27: 440
C28: INTERVENCIONES QUIRURGICAS - GRUPO I | E28: 750
C29: INTERVENCIONES QUIRURGICAS - GRUPO II | E29: 1000
C30: INTERVENCIONES QUIRURGICAS - GRUPO III | E30: 1300
C31: INTERVENCIONES QUIRURGICAS - GRUPO IV | E31: 1750
C32: INTERVENCIONES QUIRURGICAS - GRUPO V | E32: 2300
C33: INTERVENCIONES QUIRURGICAS - GRUPO VI | E33: 2950
C34: INTERVENCIONES QUIRURGICAS - GRUPO VII | E34: 3750
C35: INTERVENCIONES QUIRURGICAS - GRUPO VIII | E35: 4850

Sheet 10. Endocrinología
B3: ENDOCRINOLOGÍA
B5: No se deberán cumplimentar las casillas sombreadas en gris. La tarifa a ofertar corresponderá a la indicada en "Oferta económica"
C7: Consultas de especialistas | D7: Tarifa Unitaria Ofertada | E7: Tarifa Unitaria Máxima
C8: PRIMERA CONSULTA | D8: Se aplicará la tarifa indicada en "Oferta económica" | E8: 100
C9: CONSULTAS SUCESIVAS | D9: Se aplicará la tarifa indicada en "Oferta económica" | E9: 75
C13: Consultas de especialistas de pacientes ingresados o intervenidos que no lo sean por motivo de esta especialidad. | D13: Tarifa Unitaria Ofertada | E13: Tarifa Unitaria Máxima
C14: PRIMERA VISITA PLANTA - PACIENTE INGRESADO | D14: Se aplicará la tarifa indicada en "Oferta económica" | E14: 55
C15: VISITA SUCESIVA PLANTA - PACIENTE INGRESADO | D15: Se aplicará la tarifa indicada en "Oferta económica" | E15: 35

Sheet 59. Fisioterapia
B2: FISIOTERAPIA (PACIENTES HOSPITALIZADOS EXCEPTO FT SUELO PELVICO)
C6: Tarifa Unitaria Ofertada | D6: Tarifa Unitaria Máxima
B7: SESION DE FISIOTERAPIA (Excepto FT suelo pélvico) . *Sólo en pacientes hospitalizados | D7: 20
B8: SESION DE FISIOTERAPIA SUELO PELVICO | D8: 55
B9: *Las tarifas de la sesiones incluyen todas las técnicas aplicadas en las mismas

Sheet 26. Ginecología y Obstetricia
B2: GINECOLOGÍA Y OBSTETRICIA
B4: No se deberán cumplimentar las casillas sombreadas en gris. La tarifa a ofertar corresponderá a la indicada en "Oferta económica"
C6: Consultas de especialistas | D6: Tarifa Unitaria Ofertada | E6: Tarifa Unitaria Máxima
C7: PRIMERA CONSULTA | D7: Se aplicará la tarifa indicada en "Oferta económica" | E7: 90
C8: CONSULTAS SUCESIVAS | D8: Se aplicará la tarifa indicada en "Oferta económica" | E8: 55
C11: Consultas de especialistas de pacientes ingresados o intervenidos que no lo sean por motivo de esta especialidad. | D11: Tarifa Unitaria Ofertada | E11: Tarifa Unitaria Máxima
C12: PRIMERA VISITA PLANTA - PACIENTE INGRESADO | D12: Se aplicará la tarifa indicada en "Oferta económica" | E12: 55
C13: VISITA SUCESIVA PLANTA - PACIENTE INGRESADO | D13: Se aplicará la tarifa indicada en "Oferta económica" | E13: 35
C16: Consultas urgentes de especiastas | D16: Tarifa Unitaria Ofertada | E16: Tarifa Unitaria Máxima
C17: CONSULTA URGENTE | D17: Se aplicará la tarifa indicada en "Oferta económica" | E17: 110
B21: COD. ACT | C21: PRUEBAS DE DIAGNOSTICO | D21: Tarifa Unitaria Ofertada | E21: Tarifa Unitaria Máxima
B22: 2479 | C22: BIOPSIA QUIRURGICA DE MAMA | E22: 1200
B23: 1077 | C23: ECOGRAFIA GINECOLOGICA | D23: Se aplicará la tarifa indicada en "Oferta económica" | E23: 95
B24: 1435 | C24: ECOGRAFIA OBSTETRICA | D24: Se aplicará la tarifa indicada en "Oferta económica" | E24: 95
B25: 1439 | C25: ECOGRAFIA TRANSVAGINAL | E25: 150
B26: 1682 | C26: HISTEROSCOPIA DIAGNOSTICA | E26: 500
B27: 614 | C27: LAPAROSCOPIA DIAGNOSTICA. BIOPSIA | E27: 1800
B28: 1685 | C28: MONITORIZACION MATERNO-FETAL | D28: Se aplicará la tarifa indicada en "Oferta económica" | E28: 150
B30: COD. ACT | C30: ACTOS TERAPEUTICOS | D30: Tarifa Unitaria Ofertada | E30: Tarifa Unitaria Máxima
B31: 630 | C31: PARACENTESIS. PUNCION EVACUADORA | E31: 450
B34: COD. ACT | C34: INTERVENCIONES QUIRURGICAS (GRUPOS OMC) Ver Inclusiones y exclusiones | D34: Tarifa Unitaria Ofertada | E34: Tarifa Unitaria Máxima
C35: INTERVENCIONES QUIRURGICAS - GRUPO 0 | E35: 440
C36: INTERVENCIONES QUIRURGICAS - GRUPO I | E36: 750
C37: INTERVENCIONES QUIRURGICAS - GRUPO II | E37: 1000
C38: INTERVENCIONES QUIRURGICAS - GRUPO III | E38: 1300
C39: INTERVENCIONES QUIRURGICAS - GRUPO IV | E39: 1750
C40: INTERVENCIONES QUIRURGICAS - GRUPO V | E40: 2300
C41: INTERVENCIONES QUIRURGICAS - GRUPO VI | E41: 2950
C42: INTERVENCIONES QUIRURGICAS - GRUPO VII | E42: 3750
C43: INTERVENCIONES QUIRURGICAS - GRUPO VIII | E43: 4850

Sheet 79. Hematología
B2: HEMATOLOGIA (PACIENTES HOSPITALIZADOS)
B5: Para que la especialidad pueda ser valorada e incluidas sus actuaciones en el concierto, se deberá presentar oferta para las actuaciones con la casilla sombreada en color verde
B6: No se deberán cumplimentar las casillas sombreadas en gris. La tarifa a ofertar corresponderá a la indicada en "Oferta económica"
C8: Consultas de especialistas de pacientes ingresados o intervenidos que no lo sean por motivo de esta especialidad. | D8: Oferta consultas de especialistas (SI/NO) | E8: Tarifa Unitaria Ofertada | F8: Tarifa Unitaria Máxima
C9: PRIMERA VISITA PLANTA - PACIENTE INGRESADO | E9: Se aplicará la tarifa indicada en "Oferta económica" | F9: 55
C10: VISITA SUCESIVA PLANTA - PACIENTE INGRESADO | E10: Se aplicará la tarifa indicada en "Oferta económica" | F10: 35
B15: COD. ACT | C15: PRUEBAS DE DIAGNOSTICO. *Sólo pacientes hospitalizados | D15: Tarifa Unitaria Ofertada | E15: Tarifa Unitaria Máxima
B16: 3167 | C16: ASPIRADO DE MEDULA OSEA | E16: 400
B17: 1463 | C17: BIOPSIA MEDULA OSEA POR PUNCION | E17: 700
B18: 1464 | C18: PRUEBAS CRUZADAS | E18: 60
B20: COD. ACT | C20: ACTOS TERAPEUTICOS *Sólo pacientes hospitalizados | D20: Tarifa Unitaria Ofertada | E20: Tarifa Unitaria Máxima
B21: 1470 | C21: PLASMA FRESCO CONGELADO. UNIDAD | E21: 60
B22: 1471 | C22: SANGRE COMPLETA. UNIDAD | E22: 90
B23: 2477 | C23: SANGRIA TERAPEUTICA | E23: 60
B24: 1472 | C24: TRANSFUSION DE SANGRE O HEMODERIVADOS (POR UNIDAD) | E24: 110

Sheet 41. Hemodinánica
B2: HEMODINÁMICA
B4: No se deberán cumplimentar las casillas sombreadas en gris. La tarifa a ofertar corresponderá a la indicada en "Oferta económica"
C6: Consultas de especialistas | D6: Tarifa Unitaria Ofertada | E6: Tarifa Unitaria Máxima
C7: PRIMERA CONSULTA | D7: Se aplicará la tarifa indicada en "Oferta económica" | E7: 90
C8: CONSULTAS SUCESIVAS | D8: Se aplicará la tarifa indicada en "Oferta económica" | E8: 55
C11: Consultas de especialistas de pacientes ingresados o intervenidos que no lo sean por motivo de esta especialidad. | D11: Tarifa Unitaria Ofertada | E11: Tarifa Unitaria Máxima
C12: PRIMERA VISITA PLANTA - PACIENTE INGRESADO | D12: Se aplicará la tarifa indicada en "Oferta económica" | E12: 55
C13: VISITA SUCESIVA PLANTA - PACIENTE INGRESADO | D13: Se aplicará la tarifa indicada en "Oferta económica" | E13: 35
C16: Consultas urgentes de especiastas | D16: Tarifa Unitaria Ofertada | E16: Tarifa Unitaria Máxima
C17: CONSULTA URGENTE | D17: Se aplicará la tarifa indicada en "Oferta económica" | E17: 110
C21: OTRAS PRUEBAS O ACTOS TERAPEUTICOS | D21: Tarifa Unitaria Ofertada | E21: Tarifa Unitaria Máxima
C22: CATETERISMO CARDIACO, ANGIOCARDIOGRAFIA Y CORONARIOGRAFIA | D22: Se aplicará la tarifa indicada en "Patología Coronaria" | E22: 2090
C23: ANGIOPLASTIA CORONARIA | D23: Se aplicará la tarifa indicada en "Patología Coronaria" | E23: 2200
C24: ANGIOPLASTIA CORONARIA MAS COLOCACION DE STENT | D24: Se aplicará la tarifa indicada en "Patología Coronaria" | E24: 6600
C25: CATETERISMO+CORONARIOGRAFÍA+ANGIOPLASTIA | D25: Se aplicará la tarifa indicada en "Patología Coronaria" | E25: 6600
C26: CATETERISMO+CORONARIOGRAFÍA+ANGIOPLASTIA+COLOCACION STENT | D26: Se aplicará la tarifa indicada en "Patología Coronaria" | E26: 7700

Sheet 37. Medicina Intensiva
B2: MEDICINA INTENSIVA
B4: Para que la especialidad pueda ser valorada e incluidas sus actuaciones en el concierto, se deberá presentar oferta para las actuaciones con la casilla sombreada en color verde
C6: Estancias | D6: Tarifa Unitaria Ofertada | E6: Tarifa Unitaria Máxima
C7: ESTANCIA EN U.C.I. | D7: Se aplicará la tarifa indicada en "Oferta económica" | E7: 700

Sheet 13. Medicina Interna
B2: MEDICINA INTERNA (pacientes hospitalizados)
B4: Para que la especialidad pueda ser valorada e incluidas sus actuaciones en el concierto, se deberá presentar oferta para las actuaciones con la casilla sombreada en color verde
B5: No se deberán cumplimentar las casillas sombreadas en gris. La tarifa a ofertar corresponderá a la indicada en "Oferta económica"
C7: Consultas de especialistas de pacientes ingresados o intervenidos que no lo sean por motivo de esta especialidad. | D7: Oferta consultas de especialistas (SI/NO) | E7: Tarifa Unitaria Ofertada | F7: Tarifa Unitaria Máxima
C8: PRIMERA VISITA PLANTA - PACIENTE INGRESADO | E8: Se aplicará la tarifa indicada en "Oferta económica" | F8: 55
C9: VISITA SUCESIVA PLANTA - PACIENTE INGRESADO | E9: Se aplicará la tarifa indicada en "Oferta económica" | F9: 35

Sheet 14. Nefrología
B3: NEFROLOGÍA
B5: Para que la especialidad pueda ser valorada e incluidas sus actuaciones en el concierto, se deberá presentar oferta para las actuaciones con la casilla sombreada en color verde
B6: No se deberán cumplimentar las casillas sombreadas en gris. La tarifa a ofertar corresponderá a la indicada en "Oferta económica"
C7: Consultas de especialistas | D7: Oferta consultas de especialistas (SI/NO) | E7: Tarifa Unitaria Ofertada | F7: Tarifa Unitaria Máxima
C8: PRIMERA CONSULTA | E8: Se aplicará la tarifa indicada en "Oferta económica" | F8: 90
C9: CONSULTAS SUCESIVAS | E9: Se aplicará la tarifa indicada en "Oferta económica" | F9: 55
C13: Consultas de especialistas de pacientes ingresados o intervenidos que no lo sean por motivo de esta especialidad. | D13: Oferta consultas de especialistas (SI/NO) | E13: Tarifa Unitaria Ofertada | F13: Tarifa Unitaria Máxima
C14: PRIMERA VISITA PLANTA - PACIENTE INGRESADO | E14: Se aplicará la tarifa indicada en "Oferta económica" | F14: 55
C15: VISITA SUCESIVA PLANTA - PACIENTE INGRESADO | E15: Se aplicará la tarifa indicada en "Oferta económica" | F15: 35
B20: COD. ACT | C20: PRUEBAS DE DIAGNOSTICO | D20: Tarifa Unitaria Ofertada | E20: Tarifa Unitaria Máxima
B21: 1074 | C21: BIOPSIA RENAL PERCUTANEA | E21: 700

Sheet 16. Neumología
B2: NEUMOLOGÍA.
B5: No se deberán cumplimentar las casillas sombreadas en gris. La tarifa a ofertar corresponderá a la indicada en "Oferta económica"
C7: Consultas de especialistas | D7: Tarifa Unitaria Ofertada | E7: Tarifa Unitaria Máxima
C8: PRIMERA CONSULTA | D8: Se aplicará la tarifa indicada en "Oferta económica" | E8: 90
C9: CONSULTAS SUCESIVAS | D9: Se aplicará la tarifa indicada en "Oferta económica" | E9: 55
C12: Consultas de especialistas de pacientes ingresados o intervenidos que no lo sean por motivo de esta especialidad. | D12: Tarifa Unitaria Ofertada | E12: Tarifa Unitaria Máxima
C13: PRIMERA VISITA PLANTA - PACIENTE INGRESADO | D13: Se aplicará la tarifa indicada en "Oferta económica" | E13: 55
C14: VISITA SUCESIVA PLANTA - PACIENTE INGRESADO | D14: Se aplicará la tarifa indicada en "Oferta económica" | E14: 35
B18: COD. ACT | C18: PRUEBAS DE DIAGNOSTICO | D18: Tarifa Unitaria Ofertada | E18: Tarifa Unitaria Máxima
B19: 1071 | C19: BIOPSIA PLEURAL POR PUNCION | D19: Se aplicará la tarifa indicada en "Oferta económica" | E19: 1200
B20: 1072 | C20: BIOPSIA PULMONAR TRANSPARIETAL | D20: Se aplicará la tarifa indicada en "Oferta económica" | E20: 1200
B21: 8 | C21: ESPIROMETRIA FORZADA. CURVAS FLUJO-VOLUMEN | D21: Se aplicará la tarifa indicada en "Oferta económica" | E21: 50
B22: 7 | C22: ESPIROMETRIA SIMPLE | D22: Se aplicará la tarifa indicada en "Oferta económica" | E22: 35
B23: 1079 | C23: FIBROBRONCOSCOPIA DIAGNOSTICA CON BIOPSIA TRANSBRONQUIAL, CEPILLADO, BAS Y BAL. | D23: Se aplicará la tarifa indicada en "Oferta económica" | E23: 1200
B24: 3196 | C24: FUERZA MUSCULAR CON PRESIONES MAXIMAS. PLETISMOGRAFIA RESPIRATORIA | D24: Se aplicará la tarifa indicada en "Oferta económica" | E24: 55
B25: 1538 | C25: GASOMETRIA ARTERIAL | D25: Se aplicará la tarifa indicada en "Oferta económica" | E25: 45
B26: 1080 | C26: MEDIASTINOSCOPIA. BIOPSIA | D26: Se aplicará la tarifa indicada en "Oferta económica" | E26: 1200
B27: 2490 | C27: POLISOMNOGRAFIA RESPIRATORIA (AL MENOS TRES PARAMETROS) | D27: Se aplicará la tarifa indicada en "Oferta económica" | E27: 500
B28: 11 | C28: PRUEBAS DE BRONCODILATACION (BASAL Y TRAS BRONCODILATACION) | D28: Se aplicará la tarifa indicada en "Oferta económica" | E28: 150
B29: 1539 | C29: PRUEBAS DE DIFUSION PULMONAR (TRANSFERENCIA CO) | D29: Se aplicará la tarifa indicada en "Oferta económica" | E29: 120
B30: 2698 | C30: PULSIOXIMETRIA | E30: 40
B31: 16 | C31: TEST DE HIPERRACTIVIDAD/PROVOCACION BRONQUIAL INESPECIFICA (BASAL Y CON METACOLINA, HISTAMINA O ESFUERZO) | D31: Se aplicará la tarifa indicada en "Oferta económica" | E31: 150
B32: 15 | C32: TEST DE PROVOCACION BRONQUIAL ESPECIFICA (BASAL Y TRASRESPUESTA) | E32: 800
B33: 1257 | C33: TORACOSCOPIA DIAGNOSTICA. BIOPSIA | E33: 1200
B35: COD. ACT | C35: ACTOS TERAPEUTICOS | D35: Tarifa Unitaria Ofertada | E35: Tarifa Unitaria Máxima
B36: 1082 | C36: BRONCOSCOPIA TERAPEUTICA. EXTRACCION CUERPO EXTRAÑO O TAPON MUCOSO | E36: 500
B37: 663 | C37: TORACOCENTESIS | E37: 500
C40: OTRAS PRUEBAS O ACTOS TERAPEUTICOS | D40: Tarifa Unitaria Ofertada | E40: Tarifa Unitaria Máxima
C41: DETERMINACION BRONQUIAL DE OXIDO NITRICO | D41: Se aplicará la tarifa indicada en "Oferta económica" | E41: 110
C42: PRUEBA DE MARCHA DE 6 MINUTOS | D42: Se aplicará la tarifa indicada en "Oferta económica" | E42: 150

Sheet 19. Neurocirugía
B2: NEUROCIRUGÍA. (PRUEBAS DIAGNOSTICAS, ACTOS TERAPEUTICOS E INTERVENCIONES QUIRURGICAS PACIENTES HOSPITALIZADOS)
B5: No se deberán cumplimentar las casillas sombreadas en gris. La tarifa a ofertar corresponderá a la indicada en "Oferta económica"
C7: Consultas de especialistas | D7: Tarifa Unitaria Ofertada | E7: Tarifa Unitaria Máxima
C8: PRIMERA CONSULTA | D8: Se aplicará la tarifa indicada en "Oferta económica" | E8: 90
C9: CONSULTAS SUCESIVAS | D9: Se aplicará la tarifa indicada en "Oferta económica" | E9: 55
C12: Consultas de especialistas de pacientes ingresados o intervenidos que no lo sean por motivo de esta especialidad. | D12: Tarifa Unitaria Ofertada | E12: Tarifa Unitaria Máxima
C13: PRIMERA VISITA PLANTA - PACIENTE INGRESADO | D13: Se aplicará la tarifa indicada en "Oferta económica" | E13: 55
C14: VISITA SUCESIVA PLANTA - PACIENTE INGRESADO | D14: Se aplicará la tarifa indicada en "Oferta económica" | E14: 35
B17: COD. ACT | C17: PRUEBAS DE DIAGNOSTICO | D17: Tarifa Unitaria Ofertada | E17: Tarifa Unitaria Máxima
B18: 1546 | C18: ELECTROMIOGRAMA CUANTIFICADO (Sólo pacientes hospitalizados) | E18: 90
B21: COD. ACT | C21: ACTOS TERAPEUTICOS | D21: Tarifa Unitaria Ofertada | E21: Tarifa Unitaria Máxima
B22: 1670 | C22: PUNCION LUMBAR (Sólo pacientes hospitalizados) | E22: 300
B26: COD. ACT | C26: INTERVENCIONES QUIRURGICAS (GRUPOS OMC) *Sólo pacientes hospitalizados Ver Inclusiones y exclusiones | D26: Tarifa Unitaria Ofertada | E26: Tarifa Unitaria Máxima
C27: INTERVENCIONES QUIRURGICAS - GRUPO 0 | E27: 440
C28: INTERVENCIONES QUIRURGICAS - GRUPO I | E28: 750
C29: INTERVENCIONES QUIRURGICAS - GRUPO II | E29: 1000
C30: INTERVENCIONES QUIRURGICAS - GRUPO III | E30: 1300
C31: INTERVENCIONES QUIRURGICAS - GRUPO IV | E31: 1750
C32: INTERVENCIONES QUIRURGICAS - GRUPO V | E32: 2300
C33: INTERVENCIONES QUIRURGICAS - GRUPO VI | E33: 2950
C34: INTERVENCIONES QUIRURGICAS - GRUPO VII | E34: 3750
C35: INTERVENCIONES QUIRURGICAS - GRUPO VIII | E35: 4850

Sheet 18. Neurofisiología
B2: NEUROFISIOLOGIA (PACIENTES HOSPITALIZADOS)
B4: No se deberán cumplimentar las casillas sombreadas en gris. La tarifa a ofertar corresponderá a la indicada en "Oferta económica"
B9: COD. ACT | C9: PRUEBAS DE DIAGNOSTICO. *Sólo pacientes hospitalizados | D9: Tarifa Unitaria Ofertada | E9: Tarifa Unitaria Máxima
B10: 546 | C10: ECO-DOPPLER DE TRONCOS SUPRAAORTICOS | D10: Se aplicará la tarifa indicada en "Oferta económica" | E10: 235
B11: 2699 | C11: ECO-DOPPLER TRANSCRANEAL | E11: 235
B12: 1650 | C12: ELECTROENCEFALOGRAMA | E12: 90
B13: 1653 | C13: ELECTROENCEFALOGRAMA CON PRIVACION DE SUEÑO | E13: 225
B14: 1655 | C14: ELECTROENCEFALOGRAMA PEROPERATORIO | E14: 225
B15: 1546 | C15: ELECTROMIOGRAMA CUANTIFICADO | E15: 90
B16: 1656 | C16: ELECTROMIOGRAMA CUANTIFICADO MAS NEUROGRAFIA | E16: 90
B17: 1662 | C17: ESTUDIO EEG DE 24 HORAS. TELEMETRIA O HOLTER | E17: 150
B18: 1665 | C18: POTENCIALES EVOCADOS AUDITIVOS | E18: 90
B19: 1666 | C19: POTENCIALES EVOCADOS DE TRONCO CEREBRAL | E19: 90
B20: 1667 | C20: POTENCIALES EVOCADOS SOMESTESICOS DE MIEMBROS INFERIORES O SUPERIORES | E20: 90
B21: 1668 | C21: POTENCIALES EVOCADOS VISUALES | E21: 90

Sheet 17. Neurología
B2: NEUROLOGÍA (PACIENTES HOSPITALIZADOS)
B4: Para que la especialidad pueda ser valorada e incluidas sus actuaciones en el concierto, se deberá presentar oferta para las actuaciones con la casilla sombreada en color verde
B5: No se deberán cumplimentar las casillas sombreadas en gris. La tarifa a ofertar corresponderá a la indicada en "Oferta económica"
C7: Consultas de especialistas de pacientes ingresados o intervenidos que no lo sean por motivo de esta especialidad. | D7: Oferta consultas de especialistas (SI/NO) | E7: Tarifa Unitaria Ofertada | F7: Tarifa Unitaria Máxima
C8: PRIMERA VISITA PLANTA, PACIENTE INGRESADO | E8: Se aplicará la tarifa indicada en "Oferta económica" | F8: 55
C9: VISITA SUCESIVA PLANTA, PACIENTE INGRESADO | E9: Se aplicará la tarifa indicada en "Oferta económica" | F9: 35
B14: COD. ACT | C14: PRUEBAS DE DIAGNOSTICO *Sólo pacientes hospitalizados | D14: Tarifa Unitaria Ofertada | E14: Tarifa Unitaria Máxima
B15: 546 | C15: ECO-DOPPLER DE TRONCOS SUPRAAORTICOS | D15: Se aplicará la tarifa indicada en "Oferta económica" | E15: 235
B16: 2699 | C16: ECO-DOPPLER TRANSCRANEAL | E16: 235
B17: 1650 | C17: ELECTROENCEFALOGRAMA | E17: 90
B18: 1653 | C18: ELECTROENCEFALOGRAMA CON PRIVACION DE SUEÑO | E18: 225
B19: 1655 | C19: ELECTROENCEFALOGRAMA PEROPERATORIO | E19: 225
B20: 1546 | C20: ELECTROMIOGRAMA CUANTIFICADO | E20: 90
B21: 1656 | C21: ELECTROMIOGRAMA CUANTIFICADO MAS NEUROGRAFIA | E21: 90
B22: 1662 | C22: ESTUDIO EEG DE 24 HORAS. TELEMETRIA O HOLTER | E22: 150
B23: 1665 | C23: POTENCIALES EVOCADOS AUDITIVOS | E23: 90
B24: 1666 | C24: POTENCIALES EVOCADOS DE TRONCO CEREBRAL | E24: 90
B25: 1667 | C25: POTENCIALES EVOCADOS SOMESTESICOS DE MIEMBROS INFERIORES O SUPERIORES | E25: 90
B26: 1668 | C26: POTENCIALES EVOCADOS VISUALES | E26: 90
B27: 1670 | C27: PUNCION LUMBAR | E27: 300

Sheet 44. Odontología
B3: ODONTOLOGÍA (CONSULTAS PACIENTES HOSPITALIZADOS)
B5: Para que la especialidad pueda ser valorada e incluidas sus actuaciones en el concierto, se deberá presentar oferta para las actuaciones con la casilla sombreada en color verde
B6: No se deberán cumplimentar las casillas sombreadas en gris. La tarifa a ofertar corresponderá a la indicada en "Oferta económica"
C8: Consultas de especialistas de pacientes ingresados o intervenidos que no lo sean por motivo de esta especialidad. | D8: Oferta consultas de especialistas (SI/NO) | E8: Tarifa Unitaria Ofertada | F8: Tarifa Unitaria Máxima
C9: PRIMERA VISITA PLANTA, PACIENTE INGRESADO | E9: Se aplicará la tarifa indicada en "Oferta económica" | F9: 55
C10: VISITA SUCESIVA PLANTA, PACIENTE INGRESADO | E10: Se aplicará la tarifa indicada en "Oferta económica" | F10: 35
B14: COD. ACT | C14: PRUEBAS DE DIAGNOSTICO* pacientes ambulatorios y hospitalizados. | D14: Tarifa Unitaria Ofertada | E14: Tarifa Unitaria Máxima
B15: 1349 | C15: ORTOPANTOMOGRAFIA | E15: 50

Sheet 50. Oftalmología
B2: OFTALMOLOGÍA (PACIENTES HOSPITALIZADOS)
B4: Para que la especialidad pueda ser valorada e incluidas sus actuaciones en el concierto, se deberá presentar oferta para las actuaciones con la casilla sombreada en color verde
B5: No se deberán cumplimentar las casillas sombreadas en gris. La tarifa a ofertar corresponderá a la indicada en "Oferta económica"
